FILENAME: O4511262.NWS.789317.tif
QUADRANGLE_NAME: RED CANYON
QUADRANT: NW
WEST_LONGITUDE: -112 22 30.00000
EAST_LONGITUDE: -112 18 45.00000
NORTH_LATITUDE: 45 7 30.00000
SOUTH_LATITUDE: 45 3 45.00000
PRODUCTION_DATE: 1997 11 13
RASTER_ORDER: LEFT_RIGHT/TOP_BOTTOM
BAND_ORGANIZATION: SINGLE FILE
BAND_CONTENT: BLACK&WHITE
BAND_CONTENT: UNDEFINED
BAND_CONTENT: UNDEFINED
BITS_PER_PIXEL: 8
SAMPLES_AND_LINES: 5699 7633
HORIZONTAL_DATUM: NAD83
HORIZONTAL_COORDINATE_SYSTEM: UTM
COORDINATE_ZONE: 12
HORIZONTAL_UNITS: METERS
HORIZONTAL_RESOLUTION: 1.00000
SECONDARY_HORIZONTAL_DATUM: NAD27
XY_ORIGIN: 391381.60000 4998055.54800
SECONDARY_XY_ORIGIN: 391444.20500 4997846.08200
NATION: US
STATE: MT
NW_QUAD_CORNER_XY: 391864.89100 4997756.04800
NE_QUAD_CORNER_XY: 396780.12000 4997674.34300
SE_QUAD_CORNERY_XY: 396667.45300 4990731.27300
SW_QUAD_CORNER_XY: 391746.85600 4990812.97900
SECONDARY_NW_QUAD_XY: 391861.69000 4997538.77500
SECONDARY_NE_QUAD_XY: 396777.06500 4997457.06700
SECONDARY_SE_QUAD_XY: 396664.39900 4990514.05200
SECONDARY_SW_QUAD_XY: 391743.65600 4990595.76000
RMSE_XY: 3.90000
IMAGE_SOURCE: BLACK AND WHITE FILM
SOURCE_IMAGE_ID: NAPP 9484 46
SOURCE_IMAGE_DATE: 1995 8 14
SOURCE_DEM_DATE: 1997 11 13
AGENCY: WESTERN MAPPING CENTER (WMC)
PRODUCER: NIES MAPPING GROUP
PRODUCTION_SYSTEM: INTERGRAPH- ISPM,ISIR
COMPRESSION: UNDEFINED
STANDARD_VERSION: 1996 12
METADATA_DATE: 1998 2 27
DATA_FILE_SIZE: 43506166
BYTE_COUNT: 5699
