FILENAME: O4511260.NES.811565.tif
QUADRANGLE_NAME: ASHBOUGH CANYON
QUADRANT: NE
WEST_LONGITUDE: -112 33 45.00000
EAST_LONGITUDE: -112 30 0.00000
NORTH_LATITUDE: 45 7 30.00000
SOUTH_LATITUDE: 45 3 45.00000
PRODUCTION_DATE: 1997 11 25
RASTER_ORDER: LEFT_RIGHT/TOP_BOTTOM
BAND_ORGANIZATION: SINGLE FILE
BAND_CONTENT: BLACK&WHITE
BAND_CONTENT: UNDEFINED
BAND_CONTENT: UNDEFINED
BITS_PER_PIXEL: 8
SAMPLES_AND_LINES: 5716 7644
HORIZONTAL_DATUM: NAD83
HORIZONTAL_COORDINATE_SYSTEM: UTM
COORDINATE_ZONE: 12
HORIZONTAL_UNITS: METERS
HORIZONTAL_RESOLUTION: 1.00000
SECONDARY_HORIZONTAL_DATUM: NAD27
XY_ORIGIN: 376618.78700 4998323.47500
SECONDARY_XY_ORIGIN: 376681.97600 4998113.82800
NATION: US
STATE: MT
NW_QUAD_CORNER_XY: 377119.20400 4998023.97500
NE_QUAD_CORNER_XY: 382034.43200 4997930.86400
SE_QUAD_CORNERY_XY: 381905.66300 4990987.79600
SW_QUAD_CORNER_XY: 376985.06600 4991080.90700
SECONDARY_NW_QUAD_XY: 377115.56700 4997806.71000
SECONDARY_NE_QUAD_XY: 382030.94100 4997713.59600
SECONDARY_SE_QUAD_XY: 381902.17200 4990770.58200
SECONDARY_SW_QUAD_XY: 376981.43000 4990863.69600
RMSE_XY: 1.50000
IMAGE_SOURCE: BLACK AND WHITE FILM
SOURCE_IMAGE_ID: NAPP 8382 139
SOURCE_IMAGE_DATE: 1995 8 1
SOURCE_DEM_DATE: 1997 11 25
AGENCY: WESTERN MAPPING CENTER (WMC)
PRODUCER: NIES MAPPING GROUP
PRODUCTION_SYSTEM: INTERGRAPH-ISIR
COMPRESSION: UNDEFINED
STANDARD_VERSION: 1996 12
METADATA_DATE: 1998 3 19
DATA_FILE_SIZE: 43698820
BYTE_COUNT: 5716
