FILENAME: O4511260.SES.811567.tif
QUADRANGLE_NAME: ASHBOUGH CANYON
QUADRANT: SE
WEST_LONGITUDE: -112 33 45.00000
EAST_LONGITUDE: -112 30 0.00000
NORTH_LATITUDE: 45 3 45.00000
SOUTH_LATITUDE: 45 0 0.00000
PRODUCTION_DATE: 1997 11 25
RASTER_ORDER: LEFT_RIGHT/TOP_BOTTOM
BAND_ORGANIZATION: SINGLE FILE
BAND_CONTENT: BLACK&WHITE
BAND_CONTENT: UNDEFINED
BAND_CONTENT: UNDEFINED
BITS_PER_PIXEL: 8
SAMPLES_AND_LINES: 5721 7644
HORIZONTAL_DATUM: NAD83
HORIZONTAL_COORDINATE_SYSTEM: UTM
COORDINATE_ZONE: 12
HORIZONTAL_UNITS: METERS
HORIZONTAL_RESOLUTION: 1.00000
SECONDARY_HORIZONTAL_DATUM: NAD27
XY_ORIGIN: 376484.83200 4991380.40700
SECONDARY_XY_ORIGIN: 376547.98700 4991170.92100
NATION: US
STATE: MT
NW_QUAD_CORNER_XY: 376985.06600 4991080.90700
NE_QUAD_CORNER_XY: 381905.66300 4990987.79600
SE_QUAD_CORNERY_XY: 381777.03400 4984044.79900
SW_QUAD_CORNER_XY: 376851.07500 4984137.91000
SECONDARY_NW_QUAD_XY: 376981.43000 4990863.69600
SECONDARY_NE_QUAD_XY: 381902.17200 4990770.58200
SECONDARY_SE_QUAD_XY: 381773.54500 4983827.64000
SECONDARY_SW_QUAD_XY: 376847.44100 4983920.75500
RMSE_XY: 1.50000
IMAGE_SOURCE: BLACK AND WHITE FILM
SOURCE_IMAGE_ID: NAPP 8382 137
SOURCE_IMAGE_DATE: 1995 8 1
SOURCE_DEM_DATE: 1997 11 25
AGENCY: WESTERN MAPPING CENTER (WMC)
PRODUCER: NIES MAPPING GROUP
PRODUCTION_SYSTEM: INTERGRAPH-ISIR
COMPRESSION: UNDEFINED
STANDARD_VERSION: 1996 12
METADATA_DATE: 1998 3 19
DATA_FILE_SIZE: 43737045
BYTE_COUNT: 5721
