FILENAME: O4511260.SWS.811568.tif
QUADRANGLE_NAME: ASHBOUGH CANYON
QUADRANT: SW
WEST_LONGITUDE: -112 37 30.00000
EAST_LONGITUDE: -112 33 45.00000
NORTH_LATITUDE: 45 3 45.00000
SOUTH_LATITUDE: 45 0 0.00000
PRODUCTION_DATE: 1997 11 25
RASTER_ORDER: LEFT_RIGHT/TOP_BOTTOM
BAND_ORGANIZATION: SINGLE FILE
BAND_CONTENT: BLACK&WHITE
BAND_CONTENT: UNDEFINED
BAND_CONTENT: UNDEFINED
BITS_PER_PIXEL: 8
SAMPLES_AND_LINES: 5727 7648
HORIZONTAL_DATUM: NAD83
HORIZONTAL_COORDINATE_SYSTEM: UTM
COORDINATE_ZONE: 12
HORIZONTAL_UNITS: METERS
HORIZONTAL_RESOLUTION: 1.00000
SECONDARY_HORIZONTAL_DATUM: NAD27
XY_ORIGIN: 371558.60900 4991477.32100
SECONDARY_XY_ORIGIN: 371621.88200 4991267.71600
NATION: US
STATE: MT
NW_QUAD_CORNER_XY: 372064.47000 4991177.82100
NE_QUAD_CORNER_XY: 376985.06600 4991080.90700
SE_QUAD_CORNERY_XY: 376851.07500 4984137.91000
SW_QUAD_CORNER_XY: 371925.11700 4984234.82400
SECONDARY_NW_QUAD_XY: 372060.68800 4990960.61300
SECONDARY_NE_QUAD_XY: 376981.43000 4990863.69600
SECONDARY_SE_QUAD_XY: 376847.44100 4983920.75500
SECONDARY_SW_QUAD_XY: 371921.33600 4984017.67100
RMSE_XY: 2.20000
IMAGE_SOURCE: BLACK AND WHITE FILM
SOURCE_IMAGE_ID: NAPP 8382 110
SOURCE_IMAGE_DATE: 1995 8 1
SOURCE_DEM_DATE: 1997 11 25
AGENCY: WESTERN MAPPING CENTER (WMC)
PRODUCER: NIES MAPPING GROUP
PRODUCTION_SYSTEM: INTERGRAPH-ISIR
COMPRESSION: UNDEFINED
STANDARD_VERSION: 1996 12
METADATA_DATE: 1998 3 19
DATA_FILE_SIZE: 43805823
BYTE_COUNT: 5727
