FILENAME: O4511259.NWS.811562.tif
QUADRANGLE_NAME: GALLAGHER MOUNTAIN
QUADRANT: NW
WEST_LONGITUDE: -112 45 0.00000
EAST_LONGITUDE: -112 41 15.00000
NORTH_LATITUDE: 45 7 30.00000
SOUTH_LATITUDE: 45 3 45.00000
PRODUCTION_DATE: 1998 2 16
RASTER_ORDER: LEFT_RIGHT/TOP_BOTTOM
BAND_ORGANIZATION: SINGLE FILE
BAND_CONTENT: BLACK&WHITE
BAND_CONTENT: UNDEFINED
BAND_CONTENT: UNDEFINED
BITS_PER_PIXEL: 8
SAMPLES_AND_LINES: 5733 7655
HORIZONTAL_DATUM: NAD83
HORIZONTAL_COORDINATE_SYSTEM: UTM
COORDINATE_ZONE: 12
HORIZONTAL_UNITS: METERS
HORIZONTAL_RESOLUTION: 1.00000
SECONDARY_HORIZONTAL_DATUM: NAD27
XY_ORIGIN: 361856.20700 4998625.62400
SECONDARY_XY_ORIGIN: 361919.74800 4998415.63000
NATION: US
STATE: MT
NW_QUAD_CORNER_XY: 362373.52100 4998326.12400
NE_QUAD_CORNER_XY: 367288.74800 4998221.60500
SE_QUAD_CORNERY_XY: 367143.87300 4991278.53800
SW_QUAD_CORNER_XY: 362223.27700 4991383.05700
SECONDARY_NW_QUAD_XY: 362369.44800 4998108.86700
SECONDARY_NE_QUAD_XY: 367284.82000 4998004.34500
SECONDARY_SE_QUAD_XY: 367139.94700 4991061.33300
SECONDARY_SW_QUAD_XY: 362219.20500 4991165.85500
RMSE_XY: 1.20000
IMAGE_SOURCE: BLACK AND WHITE FILM
SOURCE_IMAGE_ID: NAPP 9483 70
SOURCE_IMAGE_DATE: 1995 8 14
SOURCE_DEM_DATE: 1998 2 16
AGENCY: WESTERN MAPPING CENTER (WMC)
PRODUCER: NIES MAPPING GROUP
PRODUCTION_SYSTEM: INTERGRAPH-ISIR
COMPRESSION: UNDEFINED
STANDARD_VERSION: 1996 12
METADATA_DATE: 1998 3 19
DATA_FILE_SIZE: 43891848
BYTE_COUNT: 5733
