FILENAME: O4511259.SWS.811564.tif
QUADRANGLE_NAME: GALLAGHER MOUNTAIN
QUADRANT: SW
WEST_LONGITUDE: -112 45 0.00000
EAST_LONGITUDE: -112 41 15.00000
NORTH_LATITUDE: 45 3 45.00000
SOUTH_LATITUDE: 45 0 0.00000
PRODUCTION_DATE: 1998 2 16
RASTER_ORDER: LEFT_RIGHT/TOP_BOTTOM
BAND_ORGANIZATION: SINGLE FILE
BAND_CONTENT: BLACK&WHITE
BAND_CONTENT: UNDEFINED
BAND_CONTENT: UNDEFINED
BITS_PER_PIXEL: 8
SAMPLES_AND_LINES: 5738 7655
HORIZONTAL_DATUM: NAD83
HORIZONTAL_COORDINATE_SYSTEM: UTM
COORDINATE_ZONE: 12
HORIZONTAL_UNITS: METERS
HORIZONTAL_RESOLUTION: 1.00000
SECONDARY_HORIZONTAL_DATUM: NAD27
XY_ORIGIN: 361706.16500 4991682.55700
SECONDARY_XY_ORIGIN: 361769.67000 4991472.71400
NATION: US
STATE: MT
NW_QUAD_CORNER_XY: 362223.27700 4991383.05700
NE_QUAD_CORNER_XY: 367143.87300 4991278.53800
SE_QUAD_CORNERY_XY: 366999.15800 4984335.54100
SW_QUAD_CORNER_XY: 362073.19800 4984440.06000
SECONDARY_NW_QUAD_XY: 362219.20500 4991165.85500
SECONDARY_NE_QUAD_XY: 367139.94700 4991061.33300
SECONDARY_SE_QUAD_XY: 366995.23200 4984118.39100
SECONDARY_SW_QUAD_XY: 362069.12700 4984222.91300
RMSE_XY: 3.70000
IMAGE_SOURCE: BLACK AND WHITE FILM
SOURCE_IMAGE_ID: NAPP 9483 72
SOURCE_IMAGE_DATE: 1995 8 14
SOURCE_DEM_DATE: 1998 2 16
AGENCY: WESTERN MAPPING CENTER (WMC)
PRODUCER: NIES MAPPING GROUP
PRODUCTION_SYSTEM: INTERGRAPH-ISIR
COMPRESSION: UNDEFINED
STANDARD_VERSION: 1996 12
METADATA_DATE: 1998 3 19
DATA_FILE_SIZE: 43930128
BYTE_COUNT: 5738
