FILENAME: O4511257.NES.1076696.tif
QUADRANGLE_NAME: ELI SPRING
QUADRANT: NE
WEST_LONGITUDE: -112 56 15.00000
EAST_LONGITUDE: -112 52 30.00000
NORTH_LATITUDE: 45 7 30.00000
SOUTH_LATITUDE: 45 3 45.00000
PRODUCTION_DATE: 2000 5 18
RASTER_ORDER: LEFT_RIGHT/TOP_BOTTOM
BAND_ORGANIZATION: SINGLE FILE
BAND_CONTENT: BLACK&WHITE
BAND_CONTENT: UNDEFINED
BAND_CONTENT: UNDEFINED
BITS_PER_PIXEL: 8
SAMPLES_AND_LINES: 5753 7669
HORIZONTAL_DATUM: NAD83
HORIZONTAL_COORDINATE_SYSTEM: UTM
COORDINATE_ZONE: 12
HORIZONTAL_UNITS: METERS
HORIZONTAL_RESOLUTION: 1.00000
SECONDARY_HORIZONTAL_DATUM: NAD27
XY_ORIGIN: 347092.00000 4998963.00000
SECONDARY_XY_ORIGIN: 347155.73700 4998752.74100
NATION: US
NATION: "SCIENCE
STATE: MT
NW_QUAD_CORNER_XY: 347627.84300 4998662.49900
NE_QUAD_CORNER_XY: 352543.06900 4998546.57000
SE_QUAD_CORNERY_XY: 352382.08600 4991603.50500
SW_QUAD_CORNER_XY: 347461.49000 4991719.43500
SECONDARY_NW_QUAD_XY: 347623.33300 4998445.25300
SECONDARY_NE_QUAD_XY: 352538.70400 4998329.32100
SECONDARY_SE_QUAD_XY: 352377.72200 4991386.31000
SECONDARY_SW_QUAD_XY: 347456.98100 4991502.24300
RMSE_XY: 3.00000
IMAGE_SOURCE: BLACK AND WHITE FILM
SOURCE_IMAGE_ID: NAPP 9483 172
SOURCE_IMAGE_DATE: 1995 08 14
SOURCE_IMAGE_ID: NAPP 9485 141
SOURCE_IMAGE_DATE: 1995 08 20
SOURCE_IMAGE_ID: NAPP 9483 173
SOURCE_IMAGE_DATE: 1995 08 14
SOURCE_IMAGE_ID: NAPP 9483 171
SOURCE_IMAGE_DATE: 1995 08 14
SOURCE_IMAGE_ID: NAPP 9485 187
SOURCE_IMAGE_DATE: 1995 08 20
SOURCE_DEM_DATE: 1950 00 00
AGENCY: WESTERN MAPPING CENTER (WMC)
PRODUCER: UNDEFINED
PRODUCTION_SYSTEM: GIS/MAGIC
COMPRESSION: UNDEFINED
STANDARD_VERSION: 1996 12
METADATA_DATE: 2000 05 25
DATA_FILE_SIZE: 44125510
BYTE_COUNT: 5753
