FILENAME: O4511257.NWS.1076697.tif
QUADRANGLE_NAME: ELI SPRING
QUADRANT: NW
WEST_LONGITUDE: -113 0 0.00000
EAST_LONGITUDE: -112 56 15.00000
NORTH_LATITUDE: 45 7 30.00000
SOUTH_LATITUDE: 45 3 45.00000
PRODUCTION_DATE: 2000 5 18
RASTER_ORDER: LEFT_RIGHT/TOP_BOTTOM
BAND_ORGANIZATION: SINGLE FILE
BAND_CONTENT: BLACK&WHITE
BAND_CONTENT: UNDEFINED
BAND_CONTENT: UNDEFINED
BITS_PER_PIXEL: 8
SAMPLES_AND_LINES: 5758 7673
HORIZONTAL_DATUM: NAD83
HORIZONTAL_COORDINATE_SYSTEM: UTM
COORDINATE_ZONE: 12
HORIZONTAL_UNITS: METERS
HORIZONTAL_RESOLUTION: 1.00000
SECONDARY_HORIZONTAL_DATUM: NAD27
XY_ORIGIN: 342171.00000 4999083.00000
SECONDARY_XY_ORIGIN: 342234.80300 4998872.65500
NATION: US
NATION: "SCIENCE
STATE: MT
NW_QUAD_CORNER_XY: 342712.61800 4998782.23200
NE_QUAD_CORNER_XY: 347627.84300 4998662.49900
SE_QUAD_CORNERY_XY: 347461.49000 4991719.43500
SW_QUAD_CORNER_XY: 342540.89500 4991839.16800
SECONDARY_NW_QUAD_XY: 342707.96300 4998564.99000
SECONDARY_NE_QUAD_XY: 347623.33300 4998445.25300
SECONDARY_SE_QUAD_XY: 347456.98100 4991502.24300
SECONDARY_SW_QUAD_XY: 342536.24000 4991621.98000
RMSE_XY: 2.90000
IMAGE_SOURCE: BLACK AND WHITE FILM
SOURCE_IMAGE_ID: NAPP 9485 141
SOURCE_IMAGE_DATE: 1995 08 20
SOURCE_IMAGE_ID: NAPP 8404 022
SOURCE_IMAGE_DATE: 1995 09 12
SOURCE_IMAGE_ID: NAPP 9485 142
SOURCE_IMAGE_DATE: 1995 08 20
SOURCE_IMAGE_ID: NAPP 9485 140
SOURCE_IMAGE_DATE: 1995 08 20
SOURCE_IMAGE_ID: NAPP 9483 172
SOURCE_IMAGE_DATE: 1995 08 14
SOURCE_DEM_DATE: 1950 00 00
AGENCY: WESTERN MAPPING CENTER (WMC)
PRODUCER: UNDEFINED
PRODUCTION_SYSTEM: GIS/MAGIC
COMPRESSION: UNDEFINED
STANDARD_VERSION: 1996 12
METADATA_DATE: 2000 05 25
DATA_FILE_SIZE: 44186892
BYTE_COUNT: 5758
