FILENAME: O4511256.NES.789277.tif
QUADRANGLE_NAME: RUBY DAM
QUADRANT: NE
WEST_LONGITUDE: -112 3 45.00000
EAST_LONGITUDE: -112 0 0.00000
NORTH_LATITUDE: 45 15 0.00000
SOUTH_LATITUDE: 45 11 15.00000
PRODUCTION_DATE: 1997 11 20
RASTER_ORDER: LEFT_RIGHT/TOP_BOTTOM
BAND_ORGANIZATION: SINGLE FILE
BAND_CONTENT: BLACK&WHITE
BAND_CONTENT: UNDEFINED
BAND_CONTENT: UNDEFINED
BITS_PER_PIXEL: 8
SAMPLES_AND_LINES: 5660 7614
HORIZONTAL_DATUM: NAD83
HORIZONTAL_COORDINATE_SYSTEM: UTM
COORDINATE_ZONE: 12
HORIZONTAL_UNITS: METERS
HORIZONTAL_RESOLUTION: 1.00000
SECONDARY_HORIZONTAL_DATUM: NAD27
XY_ORIGIN: 416168.73000 5011571.40000
SECONDARY_XY_ORIGIN: 416230.50000 5011361.59000
NATION: US
STATE: MT
NW_QUAD_CORNER_XY: 416623.75000 5011271.90000
NE_QUAD_CORNER_XY: 421528.23000 5011209.20000
SE_QUAD_CORNERY_XY: 421442.20000 5004265.98000
SW_QUAD_CORNER_XY: 416532.34000 5004328.68000
SECONDARY_NW_QUAD_XY: 416621.27000 5011054.51000
SECONDARY_NE_QUAD_XY: 421525.90000 5010991.81000
SECONDARY_SE_QUAD_XY: 421439.88000 5004048.64000
SECONDARY_SW_QUAD_XY: 416529.87000 5004111.34000
RMSE_XY: 2.40000
IMAGE_SOURCE: BLACK AND WHITE FILM
SOURCE_IMAGE_ID: NAPP 9485 260
SOURCE_IMAGE_DATE: 1995 8 20
SOURCE_DEM_DATE: 1997 11 20
AGENCY: WESTERN MAPPING CENTER (WMC)
PRODUCER: NIES MAPPING GROUP
PRODUCTION_SYSTEM: INTERGRAPH- ISPM,ISIR
COMPRESSION: UNDEFINED
STANDARD_VERSION: 1996 12
METADATA_DATE: 1998 2 20
DATA_FILE_SIZE: 43100900
BYTE_COUNT: 5660
