FILENAME: O4511256.NWS.789278.tif
QUADRANGLE_NAME: RUBY DAM
QUADRANT: NW
WEST_LONGITUDE: -112 7 30.00000
EAST_LONGITUDE: -112 3 45.00000
NORTH_LATITUDE: 45 15 0.00000
SOUTH_LATITUDE: 45 11 15.00000
PRODUCTION_DATE: 1997 11 20
RASTER_ORDER: LEFT_RIGHT/TOP_BOTTOM
BAND_ORGANIZATION: SINGLE FILE
BAND_CONTENT: BLACK&WHITE
BAND_CONTENT: UNDEFINED
BAND_CONTENT: UNDEFINED
BITS_PER_PIXEL: 8
SAMPLES_AND_LINES: 5666 7617
HORIZONTAL_DATUM: NAD83
HORIZONTAL_COORDINATE_SYSTEM: UTM
COORDINATE_ZONE: 12
HORIZONTAL_UNITS: METERS
HORIZONTAL_RESOLUTION: 1.00000
SECONDARY_HORIZONTAL_DATUM: NAD27
XY_ORIGIN: 411258.55900 5011637.89500
SECONDARY_XY_ORIGIN: 411320.46300 5011428.09700
NATION: US
STATE: MT
NW_QUAD_CORNER_XY: 411719.26500 5011338.39500
NE_QUAD_CORNER_XY: 416623.74600 5011271.89700
SE_QUAD_CORNERY_XY: 416532.34400 5004328.67900
SW_QUAD_CORNER_XY: 411622.48500 5004395.17900
SECONDARY_NW_QUAD_XY: 411716.64500 5011121.00700
SECONDARY_NE_QUAD_XY: 416621.27200 5011054.50700
SECONDARY_SE_QUAD_XY: 416529.87100 5004111.34100
SECONDARY_SW_QUAD_XY: 411619.86600 5004177.84300
RMSE_XY: 3.60000
IMAGE_SOURCE: BLACK AND WHITE FILM
SOURCE_IMAGE_ID: NAPP 9484 254
SOURCE_IMAGE_DATE: 1995 8 14
SOURCE_DEM_DATE: 1997 11 20
AGENCY: WESTERN MAPPING CENTER (WMC)
PRODUCER: NIES MAPPING GROUP
PRODUCTION_SYSTEM: INTERGRAPH- ISPM,ISIR
COMPRESSION: UNDEFINED
STANDARD_VERSION: 1996 12
METADATA_DATE: 1998 2 20
DATA_FILE_SIZE: 43163588
BYTE_COUNT: 5666
