FILENAME: O4511255.NES.789868.tif
QUADRANGLE_NAME: METZEL RANCH
QUADRANT: NE
WEST_LONGITUDE: -112 11 15.00000
EAST_LONGITUDE: -112 7 30.00000
NORTH_LATITUDE: 45 15 0.00000
SOUTH_LATITUDE: 45 11 15.00000
PRODUCTION_DATE: 1997 12 15
RASTER_ORDER: LEFT_RIGHT/TOP_BOTTOM
BAND_ORGANIZATION: SINGLE FILE
BAND_CONTENT: BLACK&WHITE
BAND_CONTENT: UNDEFINED
BAND_CONTENT: UNDEFINED
BITS_PER_PIXEL: 8
SAMPLES_AND_LINES: 5671 7621
HORIZONTAL_DATUM: NAD83
HORIZONTAL_COORDINATE_SYSTEM: UTM
COORDINATE_ZONE: 12
HORIZONTAL_UNITS: METERS
HORIZONTAL_RESOLUTION: 1.00000
SECONDARY_HORIZONTAL_DATUM: NAD27
XY_ORIGIN: 406348.39400 5011708.19500
SECONDARY_XY_ORIGIN: 406410.42600 5011498.40800
NATION: US
STATE: MT
NW_QUAD_CORNER_XY: 406814.78500 5011408.69500
NE_QUAD_CORNER_XY: 411719.26500 5011338.39500
SE_QUAD_CORNERY_XY: 411622.48500 5004395.17900
SW_QUAD_CORNER_XY: 406712.62700 5004465.47900
SECONDARY_NW_QUAD_XY: 406812.01900 5011191.30900
SECONDARY_NE_QUAD_XY: 411716.64500 5011121.00700
SECONDARY_SE_QUAD_XY: 411619.86600 5004177.84300
SECONDARY_SW_QUAD_XY: 406709.86200 5004248.14600
RMSE_XY: 2.50000
IMAGE_SOURCE: BLACK AND WHITE FILM
SOURCE_IMAGE_ID: NAPP 9484 219
SOURCE_IMAGE_DATE: 1995 8 14
SOURCE_DEM_DATE: 1997 12 15
AGENCY: WESTERN MAPPING CENTER (WMC)
PRODUCER: NIES MAPPING GROUP
PRODUCTION_SYSTEM: INTERGRAPH- ISPM,ISIR
COMPRESSION: UNDEFINED
STANDARD_VERSION: 1996 12
METADATA_DATE: 1998 2 5
DATA_FILE_SIZE: 43224362
BYTE_COUNT: 5671
