FILENAME: O4511255.SES.789908.tif
QUADRANGLE_NAME: METZEL RANCH
QUADRANT: SE
WEST_LONGITUDE: -112 11 15.00000
EAST_LONGITUDE: -112 7 30.00000
NORTH_LATITUDE: 45 11 15.00000
SOUTH_LATITUDE: 45 7 30.00000
PRODUCTION_DATE: 1997 12 15
RASTER_ORDER: LEFT_RIGHT/TOP_BOTTOM
BAND_ORGANIZATION: SINGLE FILE
BAND_CONTENT: BLACK&WHITE
BAND_CONTENT: UNDEFINED
BAND_CONTENT: UNDEFINED
BITS_PER_PIXEL: 8
SAMPLES_AND_LINES: 5677 7621
HORIZONTAL_DATUM: NAD83
HORIZONTAL_COORDINATE_SYSTEM: UTM
COORDINATE_ZONE: 12
HORIZONTAL_UNITS: METERS
HORIZONTAL_RESOLUTION: 1.00000
SECONDARY_HORIZONTAL_DATUM: NAD27
XY_ORIGIN: 406246.40300 5004764.97900
SECONDARY_XY_ORIGIN: 406308.38700 5004555.37700
NATION: US
STATE: MT
NW_QUAD_CORNER_XY: 406712.62700 5004465.47900
NE_QUAD_CORNER_XY: 411622.48500 5004395.17900
SE_QUAD_CORNERY_XY: 411525.81200 4997452.03500
SW_QUAD_CORNER_XY: 406610.58100 4997522.33600
SECONDARY_NW_QUAD_XY: 406709.86200 5004248.14600
SECONDARY_NE_QUAD_XY: 411619.86600 5004177.84300
SECONDARY_SE_QUAD_XY: 411523.19300 4997234.75300
SECONDARY_SW_QUAD_XY: 406607.81700 4997305.05600
RMSE_XY: 3.00000
IMAGE_SOURCE: BLACK AND WHITE FILM
SOURCE_IMAGE_ID: NAPP 9484 217
SOURCE_IMAGE_DATE: 1995 8 14
SOURCE_DEM_DATE: 1997 12 15
AGENCY: WESTERN MAPPING CENTER (WMC)
PRODUCER: NIES MAPPING GROUP
PRODUCTION_SYSTEM: INTERGRAPH- ISPM,ISIR
COMPRESSION: UNDEFINED
STANDARD_VERSION: 1996 12
METADATA_DATE: 1998 2 5
DATA_FILE_SIZE: 43270094
BYTE_COUNT: 5677
