FILENAME: O4511254.NES.789253.tif
QUADRANGLE_NAME: MINE GULCH
QUADRANT: NE
WEST_LONGITUDE: -112 18 45.00000
EAST_LONGITUDE: -112 15 0.00000
NORTH_LATITUDE: 45 15 0.00000
SOUTH_LATITUDE: 45 11 15.00000
PRODUCTION_DATE: 1997 11 18
RASTER_ORDER: LEFT_RIGHT/TOP_BOTTOM
BAND_ORGANIZATION: SINGLE FILE
BAND_CONTENT: BLACK&WHITE
BAND_CONTENT: UNDEFINED
BAND_CONTENT: UNDEFINED
BITS_PER_PIXEL: 8
SAMPLES_AND_LINES: 5672 7629
HORIZONTAL_DATUM: NAD83
HORIZONTAL_COORDINATE_SYSTEM: UTM
COORDINATE_ZONE: 12
HORIZONTAL_UNITS: METERS
HORIZONTAL_RESOLUTION: 1.00000
SECONDARY_HORIZONTAL_DATUM: NAD27
XY_ORIGIN: 396528.74400 5011859.90100
SECONDARY_XY_ORIGIN: 396591.15500 5011650.10500
NATION: US
STATE: MT
NW_QUAD_CORNER_XY: 397005.82600 5011560.69800
NE_QUAD_CORNER_XY: 401910.30500 5011482.79600
SE_QUAD_CORNERY_XY: 401802.76900 5004539.58100
SW_QUAD_CORNER_XY: 396892.91200 5004617.48400
SECONDARY_NW_QUAD_XY: 397002.77000 5011343.31600
SECONDARY_NE_QUAD_XY: 401907.39400 5011265.41200
SECONDARY_SE_QUAD_XY: 401799.85900 5004322.25000
SECONDARY_SW_QUAD_XY: 396889.85600 5004400.15500
RMSE_XY: 3.50000
IMAGE_SOURCE: BLACK AND WHITE FILM
SOURCE_IMAGE_ID: NAPP 9484 97
SOURCE_IMAGE_DATE: 1995 8 14
SOURCE_IMAGE_ID: NAPP 9484 9484
SOURCE_IMAGE_DATE: 1995 8 14
SOURCE_IMAGE_ID: NAPP 9484 42
SOURCE_IMAGE_DATE: 1995 8 14
SOURCE_DEM_DATE: 1997 11 18
AGENCY: WESTERN MAPPING CENTER (WMC)
PRODUCER: NIES MAPPING GROUP
PRODUCTION_SYSTEM: INTERGRAPH- ISPM,ISIR
COMPRESSION: UNDEFINED
STANDARD_VERSION: 1996 12
METADATA_DATE: 1998 2 10
DATA_FILE_SIZE: 43277360
BYTE_COUNT: 5672
