FILENAME: O4511254.NWS.789254.tif
QUADRANGLE_NAME: MINE GULCH
QUADRANT: NW
WEST_LONGITUDE: -112 22 30.00000
EAST_LONGITUDE: -112 18 45.00000
NORTH_LATITUDE: 45 15 0.00000
SOUTH_LATITUDE: 45 11 15.00000
PRODUCTION_DATE: 1997 11 18
RASTER_ORDER: LEFT_RIGHT/TOP_BOTTOM
BAND_ORGANIZATION: SINGLE FILE
BAND_CONTENT: BLACK&WHITE
BAND_CONTENT: UNDEFINED
BAND_CONTENT: UNDEFINED
BITS_PER_PIXEL: 8
SAMPLES_AND_LINES: 5689 7633
HORIZONTAL_DATUM: NAD83
HORIZONTAL_COORDINATE_SYSTEM: UTM
COORDINATE_ZONE: 12
HORIZONTAL_UNITS: METERS
HORIZONTAL_RESOLUTION: 1.00000
SECONDARY_HORIZONTAL_DATUM: NAD27
XY_ORIGIN: 391617.74400 5011941.90100
SECONDARY_XY_ORIGIN: 391680.39700 5011732.08700
NATION: US
STATE: MT
NW_QUAD_CORNER_XY: 392101.34800 5011642.40100
NE_QUAD_CORNER_XY: 397005.82600 5011560.69800
SE_QUAD_CORNERY_XY: 396892.91200 5004617.48400
SW_QUAD_CORNER_XY: 391983.05500 5004699.18900
SECONDARY_NW_QUAD_XY: 392098.14600 5011425.02200
SECONDARY_NE_QUAD_XY: 397002.77000 5011343.31600
SECONDARY_SE_QUAD_XY: 396889.85600 5004400.15500
SECONDARY_SW_QUAD_XY: 391979.85400 5004481.86200
RMSE_XY: 1.50000
IMAGE_SOURCE: BLACK AND WHITE FILM
SOURCE_IMAGE_ID: NAPP 9484 42
SOURCE_IMAGE_DATE: 1995 8 14
SOURCE_IMAGE_ID: NAPP 9484 9484
SOURCE_IMAGE_DATE: 1995 8 14
SOURCE_IMAGE_ID: NAPP 9484 97
SOURCE_IMAGE_DATE: 1995 8 14
SOURCE_DEM_DATE: 1997 11 18
AGENCY: WESTERN MAPPING CENTER (WMC)
PRODUCER: NIES MAPPING GROUP
PRODUCTION_SYSTEM: INTERGRAPH- ISPM,ISIR
COMPRESSION: UNDEFINED
STANDARD_VERSION: 1996 12
METADATA_DATE: 1998 2 10
DATA_FILE_SIZE: 43429826
BYTE_COUNT: 5689
