FILENAME: O4511254.SWS.789256.tif
QUADRANGLE_NAME: MINE GULCH
QUADRANT: SW
WEST_LONGITUDE: -112 22 30.00000
EAST_LONGITUDE: -112 18 45.00000
NORTH_LATITUDE: 45 11 15.00000
SOUTH_LATITUDE: 45 7 30.00000
PRODUCTION_DATE: 1997 11 17
RASTER_ORDER: LEFT_RIGHT/TOP_BOTTOM
BAND_ORGANIZATION: SINGLE FILE
BAND_CONTENT: BLACK&WHITE
BAND_CONTENT: UNDEFINED
BAND_CONTENT: UNDEFINED
BITS_PER_PIXEL: 8
SAMPLES_AND_LINES: 5694 7633
HORIZONTAL_DATUM: NAD83
HORIZONTAL_COORDINATE_SYSTEM: UTM
COORDINATE_ZONE: 12
HORIZONTAL_UNITS: METERS
HORIZONTAL_RESOLUTION: 1.00000
SECONDARY_HORIZONTAL_DATUM: NAD27
XY_ORIGIN: 391499.60700 5004998.68900
SECONDARY_XY_ORIGIN: 391562.23900 5004789.04800
NATION: US
STATE: MT
NW_QUAD_CORNER_XY: 391983.05500 5004699.18900
NE_QUAD_CORNER_XY: 396892.91200 5004617.48400
SE_QUAD_CORNERY_XY: 396780.12000 4997674.34300
SW_QUAD_CORNER_XY: 391864.89100 4997756.04800
SECONDARY_NW_QUAD_XY: 391979.85400 5004481.86200
SECONDARY_NE_QUAD_XY: 396889.85600 5004400.15500
SECONDARY_SE_QUAD_XY: 396777.06500 4997457.06700
SECONDARY_SW_QUAD_XY: 391861.69000 4997538.77500
RMSE_XY: 1.10000
IMAGE_SOURCE: BLACK AND WHITE FILM
SOURCE_IMAGE_ID: NAPP 9484 44
SOURCE_IMAGE_DATE: 1995 8 14
SOURCE_DEM_DATE: 1997 11 17
AGENCY: WESTERN MAPPING CENTER (WMC)
PRODUCER: NIES MAPPING GROUP
PRODUCTION_SYSTEM: INTERGRAPH- ISPM,ISIR
COMPRESSION: UNDEFINED
STANDARD_VERSION: 1996 12
METADATA_DATE: 1998 2 10
DATA_FILE_SIZE: 43467996
BYTE_COUNT: 5694
