FILENAME: O4511252.SES.811547.tif
QUADRANGLE_NAME: DILLON EAST
QUADRANT: SE
WEST_LONGITUDE: -112 33 45.00000
EAST_LONGITUDE: -112 30 0.00000
NORTH_LATITUDE: 45 11 15.00000
SOUTH_LATITUDE: 45 7 30.00000
PRODUCTION_DATE: 1997 11 25
RASTER_ORDER: LEFT_RIGHT/TOP_BOTTOM
BAND_ORGANIZATION: SINGLE FILE
BAND_CONTENT: BLACK&WHITE
BAND_CONTENT: UNDEFINED
BAND_CONTENT: UNDEFINED
BITS_PER_PIXEL: 8
SAMPLES_AND_LINES: 5711 7644
HORIZONTAL_DATUM: NAD83
HORIZONTAL_COORDINATE_SYSTEM: UTM
COORDINATE_ZONE: 12
HORIZONTAL_UNITS: METERS
HORIZONTAL_RESOLUTION: 1.00000
SECONDARY_HORIZONTAL_DATUM: NAD27
XY_ORIGIN: 376752.89000 5005266.61300
SECONDARY_XY_ORIGIN: 376816.11200 5005056.80500
NATION: US
STATE: MT
NW_QUAD_CORNER_XY: 377253.48900 5004967.11300
NE_QUAD_CORNER_XY: 382163.34400 5004874.00300
SE_QUAD_CORNERY_XY: 382034.43200 4997930.86400
SW_QUAD_CORNER_XY: 377119.20400 4998023.97500
SECONDARY_NW_QUAD_XY: 377249.85100 5004749.79500
SECONDARY_NE_QUAD_XY: 382159.85100 5004656.68200
SECONDARY_SE_QUAD_XY: 382030.94100 4997713.59600
SECONDARY_SW_QUAD_XY: 377115.56700 4997806.71000
RMSE_XY: 2.70000
IMAGE_SOURCE: BLACK AND WHITE FILM
SOURCE_IMAGE_ID: NAPP 8382 141
SOURCE_IMAGE_DATE: 1995 8 1
SOURCE_DEM_DATE: 1997 11 25
AGENCY: WESTERN MAPPING CENTER (WMC)
PRODUCER: NIES MAPPING GROUP
PRODUCTION_SYSTEM: INTERGRAPH-ISIR
COMPRESSION: UNDEFINED
STANDARD_VERSION: 1996 12
METADATA_DATE: 1998 3 19
DATA_FILE_SIZE: 43660595
BYTE_COUNT: 5711
