FILENAME: O4511252.SWS.811548.tif
QUADRANGLE_NAME: DILLON EAST
QUADRANT: SW
WEST_LONGITUDE: -112 37 30.00000
EAST_LONGITUDE: -112 33 45.00000
NORTH_LATITUDE: 45 11 15.00000
SOUTH_LATITUDE: 45 7 30.00000
PRODUCTION_DATE: 1997 11 25
RASTER_ORDER: LEFT_RIGHT/TOP_BOTTOM
BAND_ORGANIZATION: SINGLE FILE
BAND_CONTENT: BLACK&WHITE
BAND_CONTENT: UNDEFINED
BAND_CONTENT: UNDEFINED
BITS_PER_PIXEL: 8
SAMPLES_AND_LINES: 5717 7648
HORIZONTAL_DATUM: NAD83
HORIZONTAL_COORDINATE_SYSTEM: UTM
COORDINATE_ZONE: 12
HORIZONTAL_UNITS: METERS
HORIZONTAL_RESOLUTION: 1.00000
SECONDARY_HORIZONTAL_DATUM: NAD27
XY_ORIGIN: 371837.39700 5005363.52600
SECONDARY_XY_ORIGIN: 371900.73900 5005153.60400
NATION: US
STATE: MT
NW_QUAD_CORNER_XY: 372343.63500 5005064.02600
NE_QUAD_CORNER_XY: 377253.48900 5004967.11300
SE_QUAD_CORNERY_XY: 377119.20400 4998023.97500
SW_QUAD_CORNER_XY: 372203.97600 4998120.88800
SECONDARY_NW_QUAD_XY: 372339.85200 5004846.71000
SECONDARY_NE_QUAD_XY: 377249.85100 5004749.79500
SECONDARY_SE_QUAD_XY: 377115.56700 4997806.71000
SECONDARY_SW_QUAD_XY: 372200.19300 4997903.62600
RMSE_XY: 1.60000
IMAGE_SOURCE: BLACK AND WHITE FILM
SOURCE_IMAGE_ID: NAPP 8382 106
SOURCE_IMAGE_DATE: 1995 8 1
SOURCE_DEM_DATE: 1997 11 25
AGENCY: WESTERN MAPPING CENTER (WMC)
PRODUCER: NIES MAPPING GROUP
PRODUCTION_SYSTEM: INTERGRAPH-ISIR
COMPRESSION: UNDEFINED
STANDARD_VERSION: 1996 12
METADATA_DATE: 1998 3 19
DATA_FILE_SIZE: 43729333
BYTE_COUNT: 5717
