FILENAME: O4511251.NWS.811542.tif
QUADRANGLE_NAME: DILLON WEST
QUADRANT: NW
WEST_LONGITUDE: -112 45 0.00000
EAST_LONGITUDE: -112 41 15.00000
NORTH_LATITUDE: 45 15 0.00000
SOUTH_LATITUDE: 45 11 15.00000
PRODUCTION_DATE: 1997 11 25
RASTER_ORDER: LEFT_RIGHT/TOP_BOTTOM
BAND_ORGANIZATION: SINGLE FILE
BAND_CONTENT: BLACK&WHITE
BAND_CONTENT: UNDEFINED
BAND_CONTENT: UNDEFINED
BITS_PER_PIXEL: 8
SAMPLES_AND_LINES: 5723 7655
HORIZONTAL_DATUM: NAD83
HORIZONTAL_COORDINATE_SYSTEM: UTM
COORDINATE_ZONE: 12
HORIZONTAL_UNITS: METERS
HORIZONTAL_RESOLUTION: 1.00000
SECONDARY_HORIZONTAL_DATUM: NAD27
XY_ORIGIN: 362156.78600 5012511.96400
SECONDARY_XY_ORIGIN: 362220.39300 5012301.67000
NATION: US
STATE: MT
NW_QUAD_CORNER_XY: 362674.50300 5012212.46400
NE_QUAD_CORNER_XY: 367578.97500 5012107.94700
SE_QUAD_CORNERY_XY: 367433.78200 5005164.74100
SW_QUAD_CORNER_XY: 362523.93000 5005269.25900
SECONDARY_NW_QUAD_XY: 362670.42700 5011995.10200
SECONDARY_NE_QUAD_XY: 367575.04400 5011890.58200
SECONDARY_SE_QUAD_XY: 367429.85300 5004947.42800
SECONDARY_SW_QUAD_XY: 362519.85500 5005051.94900
RMSE_XY: 3.10000
IMAGE_SOURCE: BLACK AND WHITE FILM
SOURCE_IMAGE_ID: NAPP 9483 66
SOURCE_IMAGE_DATE: 1995 8 14
SOURCE_DEM_DATE: 1997 11 25
AGENCY: WESTERN MAPPING CENTER (WMC)
PRODUCER: NIES MAPPING GROUP
PRODUCTION_SYSTEM: INTERGRAPH-ISIR
COMPRESSION: UNDEFINED
STANDARD_VERSION: 1996 12
METADATA_DATE: 1998 3 19
DATA_FILE_SIZE: 43815288
BYTE_COUNT: 5723
