FILENAME: O4511251.SES.811543.tif
QUADRANGLE_NAME: DILLON WEST
QUADRANT: SE
WEST_LONGITUDE: -112 41 15.00000
EAST_LONGITUDE: -112 37 30.00000
NORTH_LATITUDE: 45 11 15.00000
SOUTH_LATITUDE: 45 7 30.00000
PRODUCTION_DATE: 1997 11 25
RASTER_ORDER: LEFT_RIGHT/TOP_BOTTOM
BAND_ORGANIZATION: SINGLE FILE
BAND_CONTENT: BLACK&WHITE
BAND_CONTENT: UNDEFINED
BAND_CONTENT: UNDEFINED
BITS_PER_PIXEL: 8
SAMPLES_AND_LINES: 5722 7651
HORIZONTAL_DATUM: NAD83
HORIZONTAL_COORDINATE_SYSTEM: UTM
COORDINATE_ZONE: 12
HORIZONTAL_UNITS: METERS
HORIZONTAL_RESOLUTION: 1.00000
SECONDARY_HORIZONTAL_DATUM: NAD27
XY_ORIGIN: 366921.90600 5005464.24100
SECONDARY_XY_ORIGIN: 366985.36800 5005254.20600
NATION: US
STATE: MT
NW_QUAD_CORNER_XY: 367433.78200 5005164.74100
NE_QUAD_CORNER_XY: 372343.63500 5005064.02600
SE_QUAD_CORNERY_XY: 372203.97600 4998120.88800
SW_QUAD_CORNER_XY: 367288.74800 4998221.60500
SECONDARY_NW_QUAD_XY: 367429.85300 5004947.42800
SECONDARY_NE_QUAD_XY: 372339.85200 5004846.71000
SECONDARY_SE_QUAD_XY: 372200.19300 4997903.62600
SECONDARY_SW_QUAD_XY: 367284.82000 4998004.34500
RMSE_XY: 1.80000
IMAGE_SOURCE: BLACK AND WHITE FILM
SOURCE_IMAGE_ID: NAPP 8382 18
SOURCE_IMAGE_DATE: 1995 8 1
SOURCE_DEM_DATE: 1997 11 25
AGENCY: WESTERN MAPPING CENTER (WMC)
PRODUCER: NIES MAPPING GROUP
PRODUCTION_SYSTEM: INTERGRAPH-ISIR
COMPRESSION: UNDEFINED
STANDARD_VERSION: 1996 12
METADATA_DATE: 1998 3 19
DATA_FILE_SIZE: 43784744
BYTE_COUNT: 5722
