FILENAME: O4511250.SES.811539.tif
QUADRANGLE_NAME: BURNS MOUNTAIN
QUADRANT: SE
WEST_LONGITUDE: -112 48 45.00000
EAST_LONGITUDE: -112 45 0.00000
NORTH_LATITUDE: 45 11 15.00000
SOUTH_LATITUDE: 45 7 30.00000
PRODUCTION_DATE: 1997 11 25
RASTER_ORDER: LEFT_RIGHT/TOP_BOTTOM
BAND_ORGANIZATION: SINGLE FILE
BAND_CONTENT: BLACK&WHITE
BAND_CONTENT: UNDEFINED
BAND_CONTENT: UNDEFINED
BITS_PER_PIXEL: 8
SAMPLES_AND_LINES: 5733 7659
HORIZONTAL_DATUM: NAD83
HORIZONTAL_COORDINATE_SYSTEM: UTM
COORDINATE_ZONE: 12
HORIZONTAL_UNITS: METERS
HORIZONTAL_RESOLUTION: 1.00000
SECONDARY_HORIZONTAL_DATUM: NAD27
XY_ORIGIN: 357090.97700 5005677.08000
SECONDARY_XY_ORIGIN: 357154.62600 5005466.87200
NATION: US
STATE: MT
NW_QUAD_CORNER_XY: 357614.07900 5005377.58000
NE_QUAD_CORNER_XY: 362523.93000 5005269.25900
SE_QUAD_CORNERY_XY: 362373.52100 4998326.12400
SW_QUAD_CORNER_XY: 357458.29500 4998434.44600
SECONDARY_NW_QUAD_XY: 357609.85800 5005160.27400
SECONDARY_NE_QUAD_XY: 362519.85500 5005051.94900
SECONDARY_SE_QUAD_XY: 362369.44800 4998108.86700
SECONDARY_SW_QUAD_XY: 357454.07600 4998217.19300
RMSE_XY: 1.30000
IMAGE_SOURCE: BLACK AND WHITE FILM
SOURCE_IMAGE_ID: NAPP 9483 115
SOURCE_IMAGE_DATE: 1995 8 14
SOURCE_DEM_DATE: 1997 11 25
AGENCY: WESTERN MAPPING CENTER (WMC)
PRODUCER: NIES MAPPING GROUP
PRODUCTION_SYSTEM: INTERGRAPH-ISIR
COMPRESSION: UNDEFINED
STANDARD_VERSION: 1996 12
METADATA_DATE: 1998 3 19
DATA_FILE_SIZE: 43914780
BYTE_COUNT: 5733
