FILENAME: O4511250.SWS.811540.tif
QUADRANGLE_NAME: BURNS MOUNTAIN
QUADRANT: SW
WEST_LONGITUDE: -112 52 30.00000
EAST_LONGITUDE: -112 48 45.00000
NORTH_LATITUDE: 45 11 15.00000
SOUTH_LATITUDE: 45 7 30.00000
PRODUCTION_DATE: 1997 11 25
RASTER_ORDER: LEFT_RIGHT/TOP_BOTTOM
BAND_ORGANIZATION: SINGLE FILE
BAND_CONTENT: BLACK&WHITE
BAND_CONTENT: UNDEFINED
BAND_CONTENT: UNDEFINED
BITS_PER_PIXEL: 8
SAMPLES_AND_LINES: 5739 7662
HORIZONTAL_DATUM: NAD83
HORIZONTAL_COORDINATE_SYSTEM: UTM
COORDINATE_ZONE: 12
HORIZONTAL_UNITS: METERS
HORIZONTAL_RESOLUTION: 1.00000
SECONDARY_HORIZONTAL_DATUM: NAD27
XY_ORIGIN: 352175.53900 5005789.20400
SECONDARY_XY_ORIGIN: 352239.26100 5005578.93200
NATION: US
STATE: MT
NW_QUAD_CORNER_XY: 352704.22800 5005489.70400
NE_QUAD_CORNER_XY: 357614.07900 5005377.58000
SE_QUAD_CORNERY_XY: 357458.29500 4998434.44600
SW_QUAD_CORNER_XY: 352543.06900 4998546.57100
SECONDARY_NW_QUAD_XY: 352699.86200 5005272.40100
SECONDARY_NE_QUAD_XY: 357609.85800 5005160.27400
SECONDARY_SE_QUAD_XY: 357454.07600 4998217.19300
SECONDARY_SW_QUAD_XY: 352538.70400 4998329.32100
RMSE_XY: 1.50000
IMAGE_SOURCE: BLACK AND WHITE FILM
SOURCE_IMAGE_ID: NAPP 9485 190
SOURCE_IMAGE_DATE: 1995 8 20
SOURCE_DEM_DATE: 1997 11 25
AGENCY: WESTERN MAPPING CENTER (WMC)
PRODUCER: NIES MAPPING GROUP
PRODUCTION_SYSTEM: INTERGRAPH-ISIR
COMPRESSION: UNDEFINED
STANDARD_VERSION: 1996 12
METADATA_DATE: 1998 3 19
DATA_FILE_SIZE: 43977957
BYTE_COUNT: 5739
