FILENAME: O4511249.SES.1076694.tif
QUADRANGLE_NAME: BANNACK
QUADRANT: SE
WEST_LONGITUDE: -112 56 15.00000
EAST_LONGITUDE: -112 52 30.00000
NORTH_LATITUDE: 45 11 15.00000
SOUTH_LATITUDE: 45 7 30.00000
PRODUCTION_DATE: 2000 5 18
RASTER_ORDER: LEFT_RIGHT/TOP_BOTTOM
BAND_ORGANIZATION: SINGLE FILE
BAND_CONTENT: BLACK&WHITE
BAND_CONTENT: UNDEFINED
BAND_CONTENT: UNDEFINED
BITS_PER_PIXEL: 8
SAMPLES_AND_LINES: 5748 7669
HORIZONTAL_DATUM: NAD83
HORIZONTAL_COORDINATE_SYSTEM: UTM
COORDINATE_ZONE: 12
HORIZONTAL_UNITS: METERS
HORIZONTAL_RESOLUTION: 1.00000
SECONDARY_HORIZONTAL_DATUM: NAD27
XY_ORIGIN: 347258.00000 5005906.00000
SECONDARY_XY_ORIGIN: 347321.79200 5005695.65700
NATION: US
NATION: "SCIENCE
STATE: MT
NW_QUAD_CORNER_XY: 347794.37900 5005605.63200
NE_QUAD_CORNER_XY: 352704.22800 5005489.70400
SE_QUAD_CORNERY_XY: 352543.06900 4998546.57000
SW_QUAD_CORNER_XY: 347627.84300 4998662.49900
SECONDARY_NW_QUAD_XY: 347789.86700 5005388.33200
SECONDARY_NE_QUAD_XY: 352699.86200 5005272.40100
SECONDARY_SE_QUAD_XY: 352538.70400 4998329.32100
SECONDARY_SW_QUAD_XY: 347623.33300 4998445.25300
RMSE_XY: 1.70000
IMAGE_SOURCE: BLACK AND WHITE FILM
SOURCE_IMAGE_ID: NAPP 9483 170
SOURCE_IMAGE_DATE: 1995 08 14
SOURCE_IMAGE_ID: NAPP 9483 171
SOURCE_IMAGE_DATE: 1995 08 14
SOURCE_IMAGE_ID: NAPP 9483 169
SOURCE_IMAGE_DATE: 1995 08 14
SOURCE_DEM_DATE: 1950 00 00
AGENCY: WESTERN MAPPING CENTER (WMC)
PRODUCER: UNDEFINED
PRODUCTION_SYSTEM: GIS/MAGIC
COMPRESSION: UNDEFINED
STANDARD_VERSION: 1996 12
METADATA_DATE: 2000 05 25
DATA_FILE_SIZE: 44087160
BYTE_COUNT: 5748
