FILENAME: O4511249.SWS.1076695.tif
QUADRANGLE_NAME: BANNACK
QUADRANT: SW
WEST_LONGITUDE: -113 0 0.00000
EAST_LONGITUDE: -112 56 15.00000
NORTH_LATITUDE: 45 11 15.00000
SOUTH_LATITUDE: 45 7 30.00000
PRODUCTION_DATE: 2000 5 18
RASTER_ORDER: LEFT_RIGHT/TOP_BOTTOM
BAND_ORGANIZATION: SINGLE FILE
BAND_CONTENT: BLACK&WHITE
BAND_CONTENT: UNDEFINED
BAND_CONTENT: UNDEFINED
BITS_PER_PIXEL: 8
SAMPLES_AND_LINES: 5753 7673
HORIZONTAL_DATUM: NAD83
HORIZONTAL_COORDINATE_SYSTEM: UTM
COORDINATE_ZONE: 12
HORIZONTAL_UNITS: METERS
HORIZONTAL_RESOLUTION: 1.00000
SECONDARY_HORIZONTAL_DATUM: NAD27
XY_ORIGIN: 342343.00000 5006026.00000
SECONDARY_XY_ORIGIN: 342406.86500 5005815.59300
NATION: US
NATION: "SCIENCE
STATE: MT
NW_QUAD_CORNER_XY: 342884.53000 5005725.36300
NE_QUAD_CORNER_XY: 347794.37900 5005605.63200
SE_QUAD_CORNERY_XY: 347627.84300 4998662.49900
SW_QUAD_CORNER_XY: 342712.61800 4998782.23200
SECONDARY_NW_QUAD_XY: 342879.87300 5005508.06700
SECONDARY_NE_QUAD_XY: 347789.86700 5005388.33200
SECONDARY_SE_QUAD_XY: 347623.33300 4998445.25300
SECONDARY_SW_QUAD_XY: 342707.96300 4998564.99000
RMSE_XY: 2.40000
IMAGE_SOURCE: BLACK AND WHITE FILM
SOURCE_IMAGE_ID: NAPP 9485 139
SOURCE_IMAGE_DATE: 1995 08 20
SOURCE_IMAGE_ID: NAPP 8404 020
SOURCE_IMAGE_DATE: 1995 09 12
SOURCE_IMAGE_ID: NAPP 9485 140
SOURCE_IMAGE_DATE: 1995 08 20
SOURCE_IMAGE_ID: NAPP 9483 170
SOURCE_IMAGE_DATE: 1995 08 14
SOURCE_DEM_DATE: 1950 00 00
AGENCY: WESTERN MAPPING CENTER (WMC)
PRODUCER: UNDEFINED
PRODUCTION_SYSTEM: GIS/MAGIC
COMPRESSION: UNDEFINED
STANDARD_VERSION: 1996 12
METADATA_DATE: 2000 05 25
DATA_FILE_SIZE: 44148522
BYTE_COUNT: 5753
