FILENAME: O4511248.NES.789265.tif
QUADRANGLE_NAME: ALDER
QUADRANT: NE
WEST_LONGITUDE: -112 3 45.00000
EAST_LONGITUDE: -112 0 0.00000
NORTH_LATITUDE: 45 22 30.00000
SOUTH_LATITUDE: 45 18 45.00000
PRODUCTION_DATE: 1997 11 20
RASTER_ORDER: LEFT_RIGHT/TOP_BOTTOM
BAND_ORGANIZATION: SINGLE FILE
BAND_CONTENT: BLACK&WHITE
BAND_CONTENT: UNDEFINED
BAND_CONTENT: UNDEFINED
BITS_PER_PIXEL: 8
SAMPLES_AND_LINES: 5650 7614
HORIZONTAL_DATUM: NAD83
HORIZONTAL_COORDINATE_SYSTEM: UTM
COORDINATE_ZONE: 12
HORIZONTAL_UNITS: METERS
HORIZONTAL_RESOLUTION: 1.00000
SECONDARY_HORIZONTAL_DATUM: NAD27
XY_ORIGIN: 416351.50200 5025458.05300
SECONDARY_XY_ORIGIN: 416413.28300 5025248.05200
NATION: US
STATE: MT
NW_QUAD_CORNER_XY: 416806.84900 5025158.55300
NE_QUAD_CORNER_XY: 421700.55800 5025095.85800
SE_QUAD_CORNERY_XY: 421614.34600 5018152.49100
SW_QUAD_CORNER_XY: 416715.24700 5018215.18800
SECONDARY_NW_QUAD_XY: 416804.37300 5024941.06000
SECONDARY_NE_QUAD_XY: 421698.22700 5024878.36300
SECONDARY_SE_QUAD_XY: 421612.01600 5017935.04700
SECONDARY_SW_QUAD_XY: 416712.77200 5017997.74600
RMSE_XY: 2.10000
IMAGE_SOURCE: BLACK AND WHITE FILM
SOURCE_IMAGE_ID: NAPP 9485 264
SOURCE_IMAGE_DATE: 1995 8 20
SOURCE_DEM_DATE: 1997 11 20
AGENCY: WESTERN MAPPING CENTER (WMC)
PRODUCER: NIES MAPPING GROUP
PRODUCTION_SYSTEM: INTERGRAPH- ISPM,ISIR
COMPRESSION: UNDEFINED
STANDARD_VERSION: 1996 12
METADATA_DATE: 1998 2 20
DATA_FILE_SIZE: 43024750
BYTE_COUNT: 5650
