FILENAME: O4511247.NES.789844.tif
QUADRANGLE_NAME: LAURIN CANYON
QUADRANT: NE
WEST_LONGITUDE: -112 11 15.00000
EAST_LONGITUDE: -112 7 30.00000
NORTH_LATITUDE: 45 22 30.00000
SOUTH_LATITUDE: 45 18 45.00000
PRODUCTION_DATE: 1997 11 18
RASTER_ORDER: LEFT_RIGHT/TOP_BOTTOM
BAND_ORGANIZATION: SINGLE FILE
BAND_CONTENT: BLACK&WHITE
BAND_CONTENT: UNDEFINED
BAND_CONTENT: UNDEFINED
BITS_PER_PIXEL: 8
SAMPLES_AND_LINES: 5661 7621
HORIZONTAL_DATUM: NAD83
HORIZONTAL_COORDINATE_SYSTEM: UTM
COORDINATE_ZONE: 12
HORIZONTAL_UNITS: METERS
HORIZONTAL_RESOLUTION: 1.00000
SECONDARY_HORIZONTAL_DATUM: NAD27
XY_ORIGIN: 406552.79600 5025594.84600
SECONDARY_XY_ORIGIN: 406614.76200 5025384.79300
NATION: US
STATE: MT
NW_QUAD_CORNER_XY: 407019.43500 5025295.34600
NE_QUAD_CORNER_XY: 411913.14100 5025225.04900
SE_QUAD_CORNERY_XY: 411816.15000 5018281.68500
SW_QUAD_CORNER_XY: 406917.05400 5018351.98400
SECONDARY_NW_QUAD_XY: 407016.66700 5025077.85700
SECONDARY_NE_QUAD_XY: 411910.52000 5025007.55800
SECONDARY_SE_QUAD_XY: 411813.52900 5018064.24600
SECONDARY_SW_QUAD_XY: 406914.28700 5018134.54600
RMSE_XY: 3.00000
IMAGE_SOURCE: BLACK AND WHITE FILM
SOURCE_IMAGE_ID: NAPP 9484 223
SOURCE_IMAGE_DATE: 1995 8 14
SOURCE_DEM_DATE: 1997 11 18
AGENCY: WESTERN MAPPING CENTER (WMC)
PRODUCER: NIES MAPPING GROUP
PRODUCTION_SYSTEM: INTERGRAPH- ISPM,ISIR
COMPRESSION: UNDEFINED
STANDARD_VERSION: 1996 12
METADATA_DATE: 1998 2 5
DATA_FILE_SIZE: 43148142
BYTE_COUNT: 5661
