FILENAME: O4511247.NWS.789845.tif
QUADRANGLE_NAME: LAURIN CANYON
QUADRANT: NW
WEST_LONGITUDE: -112 15 0.00000
EAST_LONGITUDE: -112 11 15.00000
NORTH_LATITUDE: 45 22 30.00000
SOUTH_LATITUDE: 45 18 45.00000
PRODUCTION_DATE: 1997 12 13
RASTER_ORDER: LEFT_RIGHT/TOP_BOTTOM
BAND_ORGANIZATION: SINGLE FILE
BAND_CONTENT: BLACK&WHITE
BAND_CONTENT: UNDEFINED
BAND_CONTENT: UNDEFINED
BITS_PER_PIXEL: 8
SAMPLES_AND_LINES: 5665 7623
HORIZONTAL_DATUM: NAD83
HORIZONTAL_COORDINATE_SYSTEM: UTM
COORDINATE_ZONE: 12
HORIZONTAL_UNITS: METERS
HORIZONTAL_RESOLUTION: 1.00000
SECONDARY_HORIZONTAL_DATUM: NAD27
XY_ORIGIN: 401654.44500 5025667.94300
SECONDARY_XY_ORIGIN: 401716.51200 5025457.86400
NATION: US
STATE: MT
NW_QUAD_CORNER_XY: 402125.72900 5025369.44300
NE_QUAD_CORNER_XY: 407019.43500 5025295.34600
SE_QUAD_CORNERY_XY: 406917.05400 5018351.98400
SW_QUAD_CORNER_XY: 402017.95800 5018426.08300
SECONDARY_NW_QUAD_XY: 402122.81700 5025151.95700
SECONDARY_NE_QUAD_XY: 407016.66700 5025077.85700
SECONDARY_SE_QUAD_XY: 406914.28700 5018134.54600
SECONDARY_SW_QUAD_XY: 402015.04700 5018208.64800
RMSE_XY: 2.40000
IMAGE_SOURCE: BLACK AND WHITE FILM
SOURCE_IMAGE_ID: NAPP 9484 168
SOURCE_IMAGE_DATE: 1995 8 14
SOURCE_IMAGE_ID: NAPP 9484 9484
SOURCE_IMAGE_DATE: 1995 8 14
SOURCE_IMAGE_ID: NAPP 9484 166
SOURCE_IMAGE_DATE: 1995 8 14
SOURCE_DEM_DATE: 1997 12 13
AGENCY: WESTERN MAPPING CENTER (WMC)
PRODUCER: NIES MAPPING GROUP
PRODUCTION_SYSTEM: INTERGRAPH- ISPM,ISIR
COMPRESSION: UNDEFINED
STANDARD_VERSION: 1996 12
METADATA_DATE: 1998 2 5
DATA_FILE_SIZE: 43189960
BYTE_COUNT: 5665
