FILENAME: O4511246.NWS.789246.tif
QUADRANGLE_NAME: BEAVERHEAD ROCK SE
QUADRANT: NW
WEST_LONGITUDE: -112 22 30.00000
EAST_LONGITUDE: -112 18 45.00000
NORTH_LATITUDE: 45 22 30.00000
SOUTH_LATITUDE: 45 18 45.00000
PRODUCTION_DATE: 1997 11 17
RASTER_ORDER: LEFT_RIGHT/TOP_BOTTOM
BAND_ORGANIZATION: SINGLE FILE
BAND_CONTENT: BLACK&WHITE
BAND_CONTENT: UNDEFINED
BAND_CONTENT: UNDEFINED
BITS_PER_PIXEL: 8
SAMPLES_AND_LINES: 5678 7633
HORIZONTAL_DATUM: NAD83
HORIZONTAL_COORDINATE_SYSTEM: UTM
COORDINATE_ZONE: 12
HORIZONTAL_UNITS: METERS
HORIZONTAL_RESOLUTION: 1.00000
SECONDARY_HORIZONTAL_DATUM: NAD27
XY_ORIGIN: 391854.52500 5025828.54200
SECONDARY_XY_ORIGIN: 391916.98700 5025618.40900
NATION: US
STATE: MT
NW_QUAD_CORNER_XY: 392338.32300 5025529.04200
NE_QUAD_CORNER_XY: 397232.02500 5025447.34200
SE_QUAD_CORNERY_XY: 397118.86400 5018503.98400
SW_QUAD_CORNER_XY: 392219.77100 5018585.68600
SECONDARY_NW_QUAD_XY: 392335.11900 5025311.56100
SECONDARY_NE_QUAD_XY: 397228.96700 5025229.85800
SECONDARY_SE_QUAD_XY: 397115.80700 5018286.55100
SECONDARY_SW_QUAD_XY: 392216.56800 5018368.25500
RMSE_XY: 2.00000
IMAGE_SOURCE: BLACK AND WHITE FILM
SOURCE_IMAGE_ID: NAPP 9484 38
SOURCE_IMAGE_DATE: 1995 8 14
SOURCE_DEM_DATE: 1997 11 17
AGENCY: WESTERN MAPPING CENTER (WMC)
PRODUCER: NIES MAPPING GROUP
PRODUCTION_SYSTEM: INTERGRAPH- ISPM,ISIR
COMPRESSION: UNDEFINED
STANDARD_VERSION: 1996 12
METADATA_DATE: 1998 2 10
DATA_FILE_SIZE: 43345852
BYTE_COUNT: 5678
