FILENAME: O4511245.NES.789241.tif
QUADRANGLE_NAME: BEAVERHEAD ROCK SW
QUADRANT: NE
WEST_LONGITUDE: -112 26 15.00000
EAST_LONGITUDE: -112 22 30.00000
NORTH_LATITUDE: 45 22 30.00000
SOUTH_LATITUDE: 45 18 45.00000
PRODUCTION_DATE: 1997 11 14
RASTER_ORDER: LEFT_RIGHT/TOP_BOTTOM
BAND_ORGANIZATION: SINGLE FILE
BAND_CONTENT: BLACK&WHITE
BAND_CONTENT: UNDEFINED
BAND_CONTENT: UNDEFINED
BITS_PER_PIXEL: 8
SAMPLES_AND_LINES: 5684 7636
HORIZONTAL_DATUM: NAD83
HORIZONTAL_COORDINATE_SYSTEM: UTM
COORDINATE_ZONE: 12
HORIZONTAL_UNITS: METERS
HORIZONTAL_RESOLUTION: 1.00000
SECONDARY_HORIZONTAL_DATUM: NAD27
XY_ORIGIN: 386955.06700 5025914.04400
SECONDARY_XY_ORIGIN: 387017.72700 5025703.88300
NATION: US
STATE: MT
NW_QUAD_CORNER_XY: 387444.62200 5025614.54400
NE_QUAD_CORNER_XY: 392338.32300 5025529.04200
SE_QUAD_CORNERY_XY: 392219.77100 5018585.68600
SW_QUAD_CORNER_XY: 387320.67900 5018671.18900
SECONDARY_NW_QUAD_XY: 387441.27300 5025397.06500
SECONDARY_NE_QUAD_XY: 392335.11900 5025311.56100
SECONDARY_SE_QUAD_XY: 392216.56800 5018368.25500
SECONDARY_SW_QUAD_XY: 387317.33100 5018453.76100
RMSE_XY: 1.30000
IMAGE_SOURCE: BLACK AND WHITE FILM
SOURCE_IMAGE_ID: NAPP 8382 254
SOURCE_IMAGE_DATE: 1995 8 1
SOURCE_DEM_DATE: 1997 11 14
AGENCY: WESTERN MAPPING CENTER (WMC)
PRODUCER: NIES MAPPING GROUP
PRODUCTION_SYSTEM: INTERGRAPH- ISPM,ISIR
COMPRESSION: UNDEFINED
STANDARD_VERSION: 1996 12
METADATA_DATE: 1998 2 10
DATA_FILE_SIZE: 43408708
BYTE_COUNT: 5684
