FILENAME: O4511244.SES.811523.tif
QUADRANGLE_NAME: GLEN SE
QUADRANT: SE
WEST_LONGITUDE: -112 33 45.00000
EAST_LONGITUDE: -112 30 0.00000
NORTH_LATITUDE: 45 18 45.00000
SOUTH_LATITUDE: 45 15 0.00000
PRODUCTION_DATE: 1997 11 25
RASTER_ORDER: LEFT_RIGHT/TOP_BOTTOM
BAND_ORGANIZATION: SINGLE FILE
BAND_CONTENT: BLACK&WHITE
BAND_CONTENT: UNDEFINED
BAND_CONTENT: UNDEFINED
BITS_PER_PIXEL: 8
SAMPLES_AND_LINES: 5701 7644
HORIZONTAL_DATUM: NAD83
HORIZONTAL_COORDINATE_SYSTEM: UTM
COORDINATE_ZONE: 12
HORIZONTAL_UNITS: METERS
HORIZONTAL_RESOLUTION: 1.00000
SECONDARY_HORIZONTAL_DATUM: NAD27
XY_ORIGIN: 377021.53900 5019153.10200
SECONDARY_XY_ORIGIN: 377084.66300 5018942.96700
NATION: US
STATE: MT
NW_QUAD_CORNER_XY: 377522.50000 5018853.60200
NE_QUAD_CORNER_XY: 382421.58900 5018760.49500
SE_QUAD_CORNERY_XY: 382292.39600 5011817.21300
SW_QUAD_CORNER_XY: 377387.92100 5011910.32200
SECONDARY_NW_QUAD_XY: 377518.86000 5018636.17900
SECONDARY_NE_QUAD_XY: 382418.09500 5018543.06900
SECONDARY_SE_QUAD_XY: 382288.90200 5011599.83900
SECONDARY_SW_QUAD_XY: 377384.28200 5011692.95100
RMSE_XY: 1.60000
IMAGE_SOURCE: BLACK AND WHITE FILM
SOURCE_IMAGE_ID: NAPP 8382 145
SOURCE_IMAGE_DATE: 1995 8 1
SOURCE_DEM_DATE: 1997 11 25
AGENCY: WESTERN MAPPING CENTER (WMC)
PRODUCER: NIES MAPPING GROUP
PRODUCTION_SYSTEM: INTERGRAPH-ISIR
COMPRESSION: UNDEFINED
STANDARD_VERSION: 1996 12
METADATA_DATE: 1998 3 19
DATA_FILE_SIZE: 43584145
BYTE_COUNT: 5701
