FILENAME: O4511243.NES.811517.tif
QUADRANGLE_NAME: BOND
QUADRANT: NE
WEST_LONGITUDE: -112 41 15.00000
EAST_LONGITUDE: -112 37 30.00000
NORTH_LATITUDE: 45 22 30.00000
SOUTH_LATITUDE: 45 18 45.00000
PRODUCTION_DATE: 1997 11 25
RASTER_ORDER: LEFT_RIGHT/TOP_BOTTOM
BAND_ORGANIZATION: SINGLE FILE
BAND_CONTENT: BLACK&WHITE
BAND_CONTENT: UNDEFINED
BAND_CONTENT: UNDEFINED
BITS_PER_PIXEL: 8
SAMPLES_AND_LINES: 5707 7651
HORIZONTAL_DATUM: NAD83
HORIZONTAL_COORDINATE_SYSTEM: UTM
COORDINATE_ZONE: 12
HORIZONTAL_UNITS: METERS
HORIZONTAL_RESOLUTION: 1.00000
SECONDARY_HORIZONTAL_DATUM: NAD27
XY_ORIGIN: 367357.51000 5026294.06900
SECONDARY_XY_ORIGIN: 367420.80300 5026083.55700
NATION: US
STATE: MT
NW_QUAD_CORNER_XY: 367869.83500 5025994.56900
NE_QUAD_CORNER_XY: 372763.52900 5025893.85900
SE_QUAD_CORNERY_XY: 372623.41200 5018950.51100
SW_QUAD_CORNER_XY: 367724.32600 5019051.22300
SECONDARY_NW_QUAD_XY: 367865.90300 5025777.10100
SECONDARY_NE_QUAD_XY: 372759.74300 5025676.38900
SECONDARY_SE_QUAD_XY: 372619.62600 5018733.09100
SECONDARY_SW_QUAD_XY: 367720.39400 5018833.80600
RMSE_XY: 0.80000
IMAGE_SOURCE: BLACK AND WHITE FILM
SOURCE_IMAGE_ID: NAPP 8382 24
SOURCE_IMAGE_DATE: 1995 8 1
SOURCE_DEM_DATE: 1997 11 25
AGENCY: WESTERN MAPPING CENTER (WMC)
PRODUCER: NIES MAPPING GROUP
PRODUCTION_SYSTEM: INTERGRAPH-ISIR
COMPRESSION: UNDEFINED
STANDARD_VERSION: 1996 12
METADATA_DATE: 1998 3 19
DATA_FILE_SIZE: 43669964
BYTE_COUNT: 5707
