FILENAME: O4511243.NWS.811518.tif
QUADRANGLE_NAME: BOND
QUADRANT: NW
WEST_LONGITUDE: -112 45 0.00000
EAST_LONGITUDE: -112 41 15.00000
NORTH_LATITUDE: 45 22 30.00000
SOUTH_LATITUDE: 45 18 45.00000
PRODUCTION_DATE: 1997 11 25
RASTER_ORDER: LEFT_RIGHT/TOP_BOTTOM
BAND_ORGANIZATION: SINGLE FILE
BAND_CONTENT: BLACK&WHITE
BAND_CONTENT: UNDEFINED
BAND_CONTENT: UNDEFINED
BITS_PER_PIXEL: 8
SAMPLES_AND_LINES: 5712 7655
HORIZONTAL_DATUM: NAD83
HORIZONTAL_COORDINATE_SYSTEM: UTM
COORDINATE_ZONE: 12
HORIZONTAL_UNITS: METERS
HORIZONTAL_RESOLUTION: 1.00000
SECONDARY_HORIZONTAL_DATUM: NAD27
XY_ORIGIN: 362458.14700 5026398.58100
SECONDARY_XY_ORIGIN: 362521.57900 5026187.97100
NATION: US
STATE: MT
NW_QUAD_CORNER_XY: 362976.14300 5026099.08100
NE_QUAD_CORNER_XY: 367869.83500 5025994.56900
SE_QUAD_CORNERY_XY: 367724.32600 5019051.22300
SW_QUAD_CORNER_XY: 362825.24100 5019155.73800
SECONDARY_NW_QUAD_XY: 362972.06500 5025881.61600
SECONDARY_NE_QUAD_XY: 367865.90300 5025777.10100
SECONDARY_SE_QUAD_XY: 367720.39400 5018833.80600
SECONDARY_SW_QUAD_XY: 362821.16400 5018938.32400
RMSE_XY: 2.10000
IMAGE_SOURCE: BLACK AND WHITE FILM
SOURCE_IMAGE_ID: NAPP 9483 62
SOURCE_IMAGE_DATE: 1995 8 14
SOURCE_DEM_DATE: 1997 11 25
AGENCY: WESTERN MAPPING CENTER (WMC)
PRODUCER: NIES MAPPING GROUP
PRODUCTION_SYSTEM: INTERGRAPH-ISIR
COMPRESSION: UNDEFINED
STANDARD_VERSION: 1996 12
METADATA_DATE: 1998 3 19
DATA_FILE_SIZE: 43731072
BYTE_COUNT: 5712
