FILENAME: O4511243.SES.811519.tif
QUADRANGLE_NAME: BOND
QUADRANT: SE
WEST_LONGITUDE: -112 41 15.00000
EAST_LONGITUDE: -112 37 30.00000
NORTH_LATITUDE: 45 18 45.00000
SOUTH_LATITUDE: 45 15 0.00000
PRODUCTION_DATE: 1997 11 25
RASTER_ORDER: LEFT_RIGHT/TOP_BOTTOM
BAND_ORGANIZATION: SINGLE FILE
BAND_CONTENT: BLACK&WHITE
BAND_CONTENT: UNDEFINED
BAND_CONTENT: UNDEFINED
BITS_PER_PIXEL: 8
SAMPLES_AND_LINES: 5712 7651
HORIZONTAL_DATUM: NAD83
HORIZONTAL_COORDINATE_SYSTEM: UTM
COORDINATE_ZONE: 12
HORIZONTAL_UNITS: METERS
HORIZONTAL_RESOLUTION: 1.00000
SECONDARY_HORIZONTAL_DATUM: NAD27
XY_ORIGIN: 367212.06000 5019350.72300
SECONDARY_XY_ORIGIN: 367275.45200 5019140.37200
NATION: US
STATE: MT
NW_QUAD_CORNER_XY: 367724.32600 5019051.22300
NE_QUAD_CORNER_XY: 372623.41200 5018950.51100
SE_QUAD_CORNERY_XY: 372483.44700 5012007.23300
SW_QUAD_CORNER_XY: 367578.97500 5012107.94700
SECONDARY_NW_QUAD_XY: 367720.39400 5018833.80600
SECONDARY_NE_QUAD_XY: 372619.62600 5018733.09100
SECONDARY_SE_QUAD_XY: 372479.66300 5011789.86500
SECONDARY_SW_QUAD_XY: 367575.04400 5011890.58200
RMSE_XY: 1.10000
IMAGE_SOURCE: BLACK AND WHITE FILM
SOURCE_IMAGE_ID: NAPP 8382 22
SOURCE_IMAGE_DATE: 1995 8 1
SOURCE_DEM_DATE: 1997 11 25
AGENCY: WESTERN MAPPING CENTER (WMC)
PRODUCER: NIES MAPPING GROUP
PRODUCTION_SYSTEM: INTERGRAPH-ISIR
COMPRESSION: UNDEFINED
STANDARD_VERSION: 1996 12
METADATA_DATE: 1998 3 19
DATA_FILE_SIZE: 43708224
BYTE_COUNT: 5712
