FILENAME: O4511242.NES.811513.tif
QUADRANGLE_NAME: ARGENTA
QUADRANT: NE
WEST_LONGITUDE: -112 48 45.00000
EAST_LONGITUDE: -112 45 0.00000
NORTH_LATITUDE: 45 22 30.00000
SOUTH_LATITUDE: 45 18 45.00000
PRODUCTION_DATE: 1997 11 25
RASTER_ORDER: LEFT_RIGHT/TOP_BOTTOM
BAND_ORGANIZATION: SINGLE FILE
BAND_CONTENT: BLACK&WHITE
BAND_CONTENT: UNDEFINED
BAND_CONTENT: UNDEFINED
BITS_PER_PIXEL: 8
SAMPLES_AND_LINES: 5718 7659
HORIZONTAL_DATUM: NAD83
HORIZONTAL_COORDINATE_SYSTEM: UTM
COORDINATE_ZONE: 12
HORIZONTAL_UNITS: METERS
HORIZONTAL_RESOLUTION: 1.00000
SECONDARY_HORIZONTAL_DATUM: NAD27
XY_ORIGIN: 357558.84400 5026506.89600
SECONDARY_XY_ORIGIN: 357622.34700 5026296.26500
NATION: US
STATE: MT
NW_QUAD_CORNER_XY: 358082.45200 5026207.39600
NE_QUAD_CORNER_XY: 362976.14300 5026099.08100
SE_QUAD_CORNERY_XY: 362825.24100 5019155.73800
SW_QUAD_CORNER_XY: 357926.15800 5019264.05500
SECONDARY_NW_QUAD_XY: 358078.22900 5025989.93400
SECONDARY_NE_QUAD_XY: 362972.06500 5025881.61600
SECONDARY_SE_QUAD_XY: 362821.16400 5018938.32400
SECONDARY_SW_QUAD_XY: 357921.93500 5019046.64500
RMSE_XY: 1.30000
IMAGE_SOURCE: BLACK AND WHITE FILM
SOURCE_IMAGE_ID: NAPP 9483 121
SOURCE_IMAGE_DATE: 1995 8 14
SOURCE_DEM_DATE: 1997 11 25
AGENCY: WESTERN MAPPING CENTER (WMC)
PRODUCER: NIES MAPPING GROUP
PRODUCTION_SYSTEM: INTERGRAPH-ISIR
COMPRESSION: UNDEFINED
STANDARD_VERSION: 1996 12
METADATA_DATE: 1998 3 19
DATA_FILE_SIZE: 43799880
BYTE_COUNT: 5718
