FILENAME: O4511242.SES.811515.tif
QUADRANGLE_NAME: ARGENTA
QUADRANT: SE
WEST_LONGITUDE: -112 48 45.00000
EAST_LONGITUDE: -112 45 0.00000
NORTH_LATITUDE: 45 18 45.00000
SOUTH_LATITUDE: 45 15 0.00000
PRODUCTION_DATE: 1997 11 25
RASTER_ORDER: LEFT_RIGHT/TOP_BOTTOM
BAND_ORGANIZATION: SINGLE FILE
BAND_CONTENT: BLACK&WHITE
BAND_CONTENT: UNDEFINED
BAND_CONTENT: UNDEFINED
BITS_PER_PIXEL: 8
SAMPLES_AND_LINES: 5723 7659
HORIZONTAL_DATUM: NAD83
HORIZONTAL_COORDINATE_SYSTEM: UTM
COORDINATE_ZONE: 12
HORIZONTAL_UNITS: METERS
HORIZONTAL_RESOLUTION: 1.00000
SECONDARY_HORIZONTAL_DATUM: NAD27
XY_ORIGIN: 357402.63000 5019563.55500
SECONDARY_XY_ORIGIN: 357466.22400 5019353.07100
NATION: US
STATE: MT
NW_QUAD_CORNER_XY: 357926.15800 5019264.05500
NE_QUAD_CORNER_XY: 362825.24100 5019155.73800
SE_QUAD_CORNERY_XY: 362674.50300 5012212.46400
SW_QUAD_CORNER_XY: 357770.03300 5012320.78300
SECONDARY_NW_QUAD_XY: 357921.93500 5019046.64500
SECONDARY_NE_QUAD_XY: 362821.16400 5018938.32400
SECONDARY_SE_QUAD_XY: 362670.42700 5011995.10200
SECONDARY_SW_QUAD_XY: 357765.81200 5012103.42400
RMSE_XY: 0.60000
IMAGE_SOURCE: BLACK AND WHITE FILM
SOURCE_IMAGE_ID: NAPP 9483 119
SOURCE_IMAGE_DATE: 1995 8 14
SOURCE_DEM_DATE: 1997 11 25
AGENCY: WESTERN MAPPING CENTER (WMC)
PRODUCER: NIES MAPPING GROUP
PRODUCTION_SYSTEM: INTERGRAPH-ISIR
COMPRESSION: UNDEFINED
STANDARD_VERSION: 1996 12
METADATA_DATE: 1998 3 19
DATA_FILE_SIZE: 43838180
BYTE_COUNT: 5723
