FILENAME: O4511241.SES.1076730.tif
QUADRANGLE_NAME: ERMONT
QUADRANT: SE
WEST_LONGITUDE: -112 56 15.00000
EAST_LONGITUDE: -112 52 30.00000
NORTH_LATITUDE: 45 18 45.00000
SOUTH_LATITUDE: 45 15 0.00000
PRODUCTION_DATE: 2000 5 18
RASTER_ORDER: LEFT_RIGHT/TOP_BOTTOM
BAND_ORGANIZATION: SINGLE FILE
BAND_CONTENT: BLACK&WHITE
BAND_CONTENT: UNDEFINED
BAND_CONTENT: UNDEFINED
BITS_PER_PIXEL: 8
SAMPLES_AND_LINES: 5738 7670
HORIZONTAL_DATUM: NAD83
HORIZONTAL_COORDINATE_SYSTEM: UTM
COORDINATE_ZONE: 12
HORIZONTAL_UNITS: METERS
HORIZONTAL_RESOLUTION: 1.00000
SECONDARY_HORIZONTAL_DATUM: NAD27
XY_ORIGIN: 347591.00000 5019793.00000
SECONDARY_XY_ORIGIN: 347654.74500 5019582.44900
NATION: US
NATION: "SCIENCE
STATE: MT
NW_QUAD_CORNER_XY: 348127.99600 5019492.09900
NE_QUAD_CORNER_XY: 353027.07600 5019376.17500
SE_QUAD_CORNERY_XY: 352865.56400 5012432.90500
SW_QUAD_CORNER_XY: 347961.09600 5012548.83200
SECONDARY_NW_QUAD_XY: 348123.48200 5019274.69500
SECONDARY_NE_QUAD_XY: 353022.70800 5019158.76800
SECONDARY_SE_QUAD_XY: 352861.19700 5012215.55000
SECONDARY_SW_QUAD_XY: 347956.58400 5012331.48000
RMSE_XY: 1.00000
IMAGE_SOURCE: BLACK AND WHITE FILM
SOURCE_IMAGE_ID: NAPP 9483 166
SOURCE_IMAGE_DATE: 1995 08 14
SOURCE_DEM_DATE: 2000 01 01
AGENCY: WESTERN MAPPING CENTER (WMC)
PRODUCER: UNDEFINED
PRODUCTION_SYSTEM: GIS/MAGIC
COMPRESSION: UNDEFINED
STANDARD_VERSION: 1996 12
METADATA_DATE: 2000 05 25
DATA_FILE_SIZE: 44016198
BYTE_COUNT: 5738
