FILENAME: O4511240.SES.792742.tif
QUADRANGLE_NAME: COPPER MOUNTAIN
QUADRANT: SE
WEST_LONGITUDE: -112 3 45.00000
EAST_LONGITUDE: -112 0 0.00000
NORTH_LATITUDE: 45 26 15.00000
SOUTH_LATITUDE: 45 22 30.00000
PRODUCTION_DATE: 1997 11 21
RASTER_ORDER: LEFT_RIGHT/TOP_BOTTOM
BAND_ORGANIZATION: SINGLE FILE
BAND_CONTENT: BLACK&WHITE
BAND_CONTENT: UNDEFINED
BAND_CONTENT: UNDEFINED
BITS_PER_PIXEL: 8
SAMPLES_AND_LINES: 5644 7614
HORIZONTAL_DATUM: NAD83
HORIZONTAL_COORDINATE_SYSTEM: UTM
COORDINATE_ZONE: 12
HORIZONTAL_UNITS: METERS
HORIZONTAL_RESOLUTION: 1.00000
SECONDARY_HORIZONTAL_DATUM: NAD27
XY_ORIGIN: 416443.09900 5032401.49200
SECONDARY_XY_ORIGIN: 416504.88200 5032191.39600
NATION: US
STATE: MT
NW_QUAD_CORNER_XY: 416898.55000 5032101.99200
NE_QUAD_CORNER_XY: 421786.86300 5032039.29800
SE_QUAD_CORNERY_XY: 421700.55800 5025095.85800
SW_QUAD_CORNER_XY: 416806.84900 5025158.55300
SECONDARY_NW_QUAD_XY: 416896.07300 5031884.44900
SECONDARY_NE_QUAD_XY: 421784.53200 5031821.75300
SECONDARY_SE_QUAD_XY: 421698.22700 5024878.36300
SECONDARY_SW_QUAD_XY: 416804.37300 5024941.06000
RMSE_XY: 3.60000
IMAGE_SOURCE: BLACK AND WHITE FILM
SOURCE_IMAGE_ID: NAPP 9485 266
SOURCE_IMAGE_DATE: 1995 8 20
SOURCE_DEM_DATE: 1997 11 21
AGENCY: WESTERN MAPPING CENTER (WMC)
PRODUCER: NIES MAPPING GROUP
PRODUCTION_SYSTEM: INTERGRAPH- ISPM,ISIR
COMPRESSION: UNDEFINED
STANDARD_VERSION: 1996 12
METADATA_DATE: 1998 2 5
DATA_FILE_SIZE: 42979060
BYTE_COUNT: 5644
