FILENAME: O4511240.SWS.792743.tif
QUADRANGLE_NAME: COPPER MOUNTAIN
QUADRANT: SW
WEST_LONGITUDE: -112 7 30.00000
EAST_LONGITUDE: -112 3 45.00000
NORTH_LATITUDE: 45 26 15.00000
SOUTH_LATITUDE: 45 22 30.00000
PRODUCTION_DATE: 1997 11 21
RASTER_ORDER: LEFT_RIGHT/TOP_BOTTOM
BAND_ORGANIZATION: SINGLE FILE
BAND_CONTENT: BLACK&WHITE
BAND_CONTENT: UNDEFINED
BAND_CONTENT: UNDEFINED
BITS_PER_PIXEL: 8
SAMPLES_AND_LINES: 5650 7617
HORIZONTAL_DATUM: NAD83
HORIZONTAL_COORDINATE_SYSTEM: UTM
COORDINATE_ZONE: 12
HORIZONTAL_UNITS: METERS
HORIZONTAL_RESOLUTION: 1.00000
SECONDARY_HORIZONTAL_DATUM: NAD27
XY_ORIGIN: 411549.15400 5032467.98600
SECONDARY_XY_ORIGIN: 411611.01200 5032257.84600
NATION: US
STATE: MT
NW_QUAD_CORNER_XY: 412010.23700 5032168.48600
NE_QUAD_CORNER_XY: 416898.55000 5032101.99200
SE_QUAD_CORNERY_XY: 416806.84900 5025158.55300
SW_QUAD_CORNER_XY: 411913.14100 5025225.04900
SECONDARY_NW_QUAD_XY: 412007.61500 5031950.94500
SECONDARY_NE_QUAD_XY: 416896.07300 5031884.44900
SECONDARY_SE_QUAD_XY: 416804.37300 5024941.06000
SECONDARY_SW_QUAD_XY: 411910.52000 5025007.55800
RMSE_XY: 1.80000
IMAGE_SOURCE: BLACK AND WHITE FILM
SOURCE_IMAGE_ID: NAPP 9484 248
SOURCE_IMAGE_DATE: 1995 8 14
SOURCE_DEM_DATE: 1997 11 21
AGENCY: WESTERN MAPPING CENTER (WMC)
PRODUCER: NIES MAPPING GROUP
PRODUCTION_SYSTEM: INTERGRAPH- ISPM,ISIR
COMPRESSION: UNDEFINED
STANDARD_VERSION: 1996 12
METADATA_DATE: 1998 2 5
DATA_FILE_SIZE: 43041700
BYTE_COUNT: 5650
