FILENAME: O4511239.SES.792738.tif
QUADRANGLE_NAME: SHERIDAN
QUADRANT: SE
WEST_LONGITUDE: -112 11 15.00000
EAST_LONGITUDE: -112 7 30.00000
NORTH_LATITUDE: 45 26 15.00000
SOUTH_LATITUDE: 45 22 30.00000
PRODUCTION_DATE: 1997 11 17
RASTER_ORDER: LEFT_RIGHT/TOP_BOTTOM
BAND_ORGANIZATION: SINGLE FILE
BAND_CONTENT: BLACK&WHITE
BAND_CONTENT: UNDEFINED
BAND_CONTENT: UNDEFINED
BITS_PER_PIXEL: 8
SAMPLES_AND_LINES: 5656 7621
HORIZONTAL_DATUM: NAD83
HORIZONTAL_COORDINATE_SYSTEM: UTM
COORDINATE_ZONE: 12
HORIZONTAL_UNITS: METERS
HORIZONTAL_RESOLUTION: 1.00000
SECONDARY_HORIZONTAL_DATUM: NAD27
XY_ORIGIN: 406655.20800 5032538.28100
SECONDARY_XY_ORIGIN: 406717.14100 5032328.09700
NATION: US
STATE: MT
NW_QUAD_CORNER_XY: 407121.92700 5032238.78100
NE_QUAD_CORNER_XY: 412010.23700 5032168.48600
SE_QUAD_CORNERY_XY: 411913.14100 5025225.04900
SW_QUAD_CORNER_XY: 407019.43500 5025295.34600
SECONDARY_NW_QUAD_XY: 407119.15900 5032021.24200
SECONDARY_NE_QUAD_XY: 412007.61500 5031950.94500
SECONDARY_SE_QUAD_XY: 411910.52000 5025007.55800
SECONDARY_SW_QUAD_XY: 407016.66700 5025077.85700
RMSE_XY: 1.60000
IMAGE_SOURCE: BLACK AND WHITE FILM
SOURCE_IMAGE_ID: NAPP 9484 225
SOURCE_IMAGE_DATE: 1995 8 14
SOURCE_DEM_DATE: 1997 11 17
AGENCY: WESTERN MAPPING CENTER (WMC)
PRODUCER: NIES MAPPING GROUP
PRODUCTION_SYSTEM: INTERGRAPH- ISPM,ISIR
COMPRESSION: UNDEFINED
STANDARD_VERSION: 1996 12
METADATA_DATE: 1998 2 5
DATA_FILE_SIZE: 43110032
BYTE_COUNT: 5656
