FILENAME: O4511239.SWS.792739.tif
QUADRANGLE_NAME: SHERIDAN
QUADRANT: SW
WEST_LONGITUDE: -112 15 0.00000
EAST_LONGITUDE: -112 11 15.00000
NORTH_LATITUDE: 45 26 15.00000
SOUTH_LATITUDE: 45 22 30.00000
PRODUCTION_DATE: 1997 11 17
RASTER_ORDER: LEFT_RIGHT/TOP_BOTTOM
BAND_ORGANIZATION: SINGLE FILE
BAND_CONTENT: BLACK&WHITE
BAND_CONTENT: UNDEFINED
BAND_CONTENT: UNDEFINED
BITS_PER_PIXEL: 8
SAMPLES_AND_LINES: 5661 7625
HORIZONTAL_DATUM: NAD83
HORIZONTAL_COORDINATE_SYSTEM: UTM
COORDINATE_ZONE: 12
HORIZONTAL_UNITS: METERS
HORIZONTAL_RESOLUTION: 1.00000
SECONDARY_HORIZONTAL_DATUM: NAD27
XY_ORIGIN: 401761.26500 5032612.37600
SECONDARY_XY_ORIGIN: 401823.28100 5032402.14900
NATION: US
STATE: MT
NW_QUAD_CORNER_XY: 402233.61700 5032312.87600
NE_QUAD_CORNER_XY: 407121.92700 5032238.78100
SE_QUAD_CORNERY_XY: 407019.43500 5025295.34600
SW_QUAD_CORNER_XY: 402125.72900 5025369.44300
SECONDARY_NW_QUAD_XY: 402230.70400 5032095.34000
SECONDARY_NE_QUAD_XY: 407119.15900 5032021.24200
SECONDARY_SE_QUAD_XY: 407016.66700 5025077.85700
SECONDARY_SW_QUAD_XY: 402122.81700 5025151.95700
RMSE_XY: 1.90000
IMAGE_SOURCE: BLACK AND WHITE FILM
SOURCE_IMAGE_ID: NAPP 9484 166
SOURCE_IMAGE_DATE: 1995 8 14
SOURCE_DEM_DATE: 1997 11 17
AGENCY: WESTERN MAPPING CENTER (WMC)
PRODUCER: NIES MAPPING GROUP
PRODUCTION_SYSTEM: INTERGRAPH- ISPM,ISIR
COMPRESSION: UNDEFINED
STANDARD_VERSION: 1996 12
METADATA_DATE: 1998 2 5
DATA_FILE_SIZE: 43170786
BYTE_COUNT: 5661
