FILENAME: O4511238.SWS.789240.tif
QUADRANGLE_NAME: BEAVERHEAD ROCK NE
QUADRANT: SW
WEST_LONGITUDE: -112 22 30.00000
EAST_LONGITUDE: -112 18 45.00000
NORTH_LATITUDE: 45 26 15.00000
SOUTH_LATITUDE: 45 22 30.00000
PRODUCTION_DATE: 1997 11 14
RASTER_ORDER: LEFT_RIGHT/TOP_BOTTOM
BAND_ORGANIZATION: SINGLE FILE
BAND_CONTENT: BLACK&WHITE
BAND_CONTENT: UNDEFINED
BAND_CONTENT: UNDEFINED
BITS_PER_PIXEL: 8
SAMPLES_AND_LINES: 5673 7633
HORIZONTAL_DATUM: NAD83
HORIZONTAL_COORDINATE_SYSTEM: UTM
COORDINATE_ZONE: 12
HORIZONTAL_UNITS: METERS
HORIZONTAL_RESOLUTION: 1.00000
SECONDARY_HORIZONTAL_DATUM: NAD27
XY_ORIGIN: 391973.17000 5032771.97100
SECONDARY_XY_ORIGIN: 392035.53700 5032561.68000
NATION: US
STATE: MT
NW_QUAD_CORNER_XY: 392457.00400 5032472.47100
NE_QUAD_CORNER_XY: 397345.31000 5032390.77300
SE_QUAD_CORNERY_XY: 397232.02500 5025447.34200
SW_QUAD_CORNER_XY: 392338.32300 5025529.04200
SECONDARY_NW_QUAD_XY: 392453.79900 5032254.93900
SECONDARY_NE_QUAD_XY: 397342.25100 5032173.23900
SECONDARY_SE_QUAD_XY: 397228.96700 5025229.85800
SECONDARY_SW_QUAD_XY: 392335.11900 5025311.56100
RMSE_XY: 1.80000
IMAGE_SOURCE: BLACK AND WHITE FILM
SOURCE_IMAGE_ID: NAPP 9484 36
SOURCE_IMAGE_DATE: 1995 8 14
SOURCE_DEM_DATE: 1997 11 14
AGENCY: WESTERN MAPPING CENTER (WMC)
PRODUCER: NIES MAPPING GROUP
PRODUCTION_SYSTEM: INTERGRAPH- ISPM,ISIR
COMPRESSION: UNDEFINED
STANDARD_VERSION: 1996 12
METADATA_DATE: 1998 2 10
DATA_FILE_SIZE: 43307682
BYTE_COUNT: 5673
