FILENAME: O4511236.SWS.788812.tif
QUADRANGLE_NAME: BLOCK MOUNTAIN
QUADRANT: SW
WEST_LONGITUDE: -112 37 30.00000
EAST_LONGITUDE: -112 33 45.00000
NORTH_LATITUDE: 45 26 15.00000
SOUTH_LATITUDE: 45 22 30.00000
PRODUCTION_DATE: 1997 11 25
RASTER_ORDER: LEFT_RIGHT/TOP_BOTTOM
BAND_ORGANIZATION: SINGLE FILE
BAND_CONTENT: BLACK&WHITE
BAND_CONTENT: UNDEFINED
BAND_CONTENT: UNDEFINED
BITS_PER_PIXEL: 8
SAMPLES_AND_LINES: 5695 7648
HORIZONTAL_DATUM: NAD83
HORIZONTAL_COORDINATE_SYSTEM: UTM
COORDINATE_ZONE: 12
HORIZONTAL_UNITS: METERS
HORIZONTAL_RESOLUTION: 1.00000
SECONDARY_HORIZONTAL_DATUM: NAD27
XY_ORIGIN: 372397.10500 5033136.77800
SECONDARY_XY_ORIGIN: 372460.14000 5032926.20900
NATION: US
STATE: MT
NW_QUAD_CORNER_XY: 372903.79900 5032837.27800
NE_QUAD_CORNER_XY: 377792.09700 5032740.37300
SE_QUAD_CORNERY_XY: 377657.22500 5025796.95200
SW_QUAD_CORNER_XY: 372763.52900 5025893.85900
SECONDARY_NW_QUAD_XY: 372900.01100 5032619.75700
SECONDARY_NE_QUAD_XY: 377788.45500 5032522.84900
SECONDARY_SE_QUAD_XY: 377653.58400 5025579.47800
SECONDARY_SW_QUAD_XY: 372759.74300 5025676.38900
RMSE_XY: 2.00000
IMAGE_SOURCE: BLACK AND WHITE FILM
SOURCE_IMAGE_ID: NAPP 8382 98
SOURCE_IMAGE_DATE: 1995 8 1
SOURCE_DEM_DATE: 1997 11 25
AGENCY: WESTERN MAPPING CENTER (WMC)
PRODUCER: NIES MAPPING GROUP
PRODUCTION_SYSTEM: INTERGRAPH-ISIR
COMPRESSION: UNDEFINED
STANDARD_VERSION: 1996 12
METADATA_DATE: 1998 2 11
DATA_FILE_SIZE: 43561055
BYTE_COUNT: 5695
