FILENAME: O4511235.NES.792712.tif
QUADRANGLE_NAME: GLEN
QUADRANT: NE
WEST_LONGITUDE: -112 41 15.00000
EAST_LONGITUDE: -112 37 30.00000
NORTH_LATITUDE: 45 30 0.00000
SOUTH_LATITUDE: 45 26 15.00000
PRODUCTION_DATE: 1997 11 25
RASTER_ORDER: LEFT_RIGHT/TOP_BOTTOM
BAND_ORGANIZATION: SINGLE FILE
BAND_CONTENT: BLACK&WHITE
BAND_CONTENT: UNDEFINED
BAND_CONTENT: UNDEFINED
BITS_PER_PIXEL: 8
SAMPLES_AND_LINES: 5696 7651
HORIZONTAL_DATUM: NAD83
HORIZONTAL_COORDINATE_SYSTEM: UTM
COORDINATE_ZONE: 12
HORIZONTAL_UNITS: METERS
HORIZONTAL_RESOLUTION: 1.00000
SECONDARY_HORIZONTAL_DATUM: NAD27
XY_ORIGIN: 367648.88500 5040180.96900
SECONDARY_XY_ORIGIN: 367711.98400 5039970.14300
NATION: US
STATE: MT
NW_QUAD_CORNER_XY: 368161.32800 5039881.46900
NE_QUAD_CORNER_XY: 373044.22100 5039780.76600
SE_QUAD_CORNERY_XY: 372903.79900 5032837.27800
SW_QUAD_CORNER_XY: 368015.50300 5032937.98400
SECONDARY_NW_QUAD_XY: 368157.39400 5039663.90200
SECONDARY_NE_QUAD_XY: 373040.43200 5039563.19600
SECONDARY_SE_QUAD_XY: 372900.01100 5032619.75700
SECONDARY_SW_QUAD_XY: 368011.56900 5032720.46600
RMSE_XY: 1.50000
IMAGE_SOURCE: BLACK AND WHITE FILM
SOURCE_IMAGE_ID: NAPP 8382 28
SOURCE_IMAGE_DATE: 1995 8 1
SOURCE_DEM_DATE: 1997 11 25
AGENCY: WESTERN MAPPING CENTER (WMC)
PRODUCER: NIES MAPPING GROUP
PRODUCTION_SYSTEM: INTERGRAPH-ISIR
COMPRESSION: UNDEFINED
STANDARD_VERSION: 1996 12
METADATA_DATE: 1998 2 11
DATA_FILE_SIZE: 43585792
BYTE_COUNT: 5696
