FILENAME: O4511235.SWS.792715.tif
QUADRANGLE_NAME: GLEN
QUADRANT: SW
WEST_LONGITUDE: -112 45 0.00000
EAST_LONGITUDE: -112 41 15.00000
NORTH_LATITUDE: 45 26 15.00000
SOUTH_LATITUDE: 45 22 30.00000
PRODUCTION_DATE: 1997 11 25
RASTER_ORDER: LEFT_RIGHT/TOP_BOTTOM
BAND_ORGANIZATION: SINGLE FILE
BAND_CONTENT: BLACK&WHITE
BAND_CONTENT: UNDEFINED
BAND_CONTENT: UNDEFINED
BITS_PER_PIXEL: 8
SAMPLES_AND_LINES: 5707 7655
HORIZONTAL_DATUM: NAD83
HORIZONTAL_COORDINATE_SYSTEM: UTM
COORDINATE_ZONE: 12
HORIZONTAL_UNITS: METERS
HORIZONTAL_RESOLUTION: 1.00000
SECONDARY_HORIZONTAL_DATUM: NAD27
XY_ORIGIN: 362609.13600 5033341.99300
SECONDARY_XY_ORIGIN: 362672.48100 5033131.22600
NATION: US
STATE: MT
NW_QUAD_CORNER_XY: 363127.20900 5033042.49300
NE_QUAD_CORNER_XY: 368015.50300 5032937.98400
SE_QUAD_CORNERY_XY: 367869.83500 5025994.56900
SW_QUAD_CORNER_XY: 362976.14300 5026099.08100
SECONDARY_NW_QUAD_XY: 363123.13000 5032824.97900
SECONDARY_NE_QUAD_XY: 368011.56900 5032720.46600
SECONDARY_SE_QUAD_XY: 367865.90300 5025777.10100
SECONDARY_SW_QUAD_XY: 362972.06500 5025881.61600
RMSE_XY: 1.60000
IMAGE_SOURCE: BLACK AND WHITE FILM
SOURCE_IMAGE_ID: NAPP 9483 60
SOURCE_IMAGE_DATE: 1995 8 14
SOURCE_DEM_DATE: 1997 11 25
AGENCY: WESTERN MAPPING CENTER (WMC)
PRODUCER: NIES MAPPING GROUP
PRODUCTION_SYSTEM: INTERGRAPH-ISIR
COMPRESSION: UNDEFINED
STANDARD_VERSION: 1996 12
METADATA_DATE: 1998 2 11
DATA_FILE_SIZE: 43692792
BYTE_COUNT: 5707
