FILENAME: O4511234.NES.792708.tif
QUADRANGLE_NAME: TWIN ADAMS MOUNTAIN
QUADRANT: NE
WEST_LONGITUDE: -112 48 45.00000
EAST_LONGITUDE: -112 45 0.00000
NORTH_LATITUDE: 45 30 0.00000
SOUTH_LATITUDE: 45 26 15.00000
PRODUCTION_DATE: 1997 11 25
RASTER_ORDER: LEFT_RIGHT/TOP_BOTTOM
BAND_ORGANIZATION: SINGLE FILE
BAND_CONTENT: BLACK&WHITE
BAND_CONTENT: UNDEFINED
BAND_CONTENT: UNDEFINED
BITS_PER_PIXEL: 8
SAMPLES_AND_LINES: 5707 7659
HORIZONTAL_DATUM: NAD83
HORIZONTAL_COORDINATE_SYSTEM: UTM
COORDINATE_ZONE: 12
HORIZONTAL_UNITS: METERS
HORIZONTAL_RESOLUTION: 1.00000
SECONDARY_HORIZONTAL_DATUM: NAD27
XY_ORIGIN: 357871.78300 5040393.78300
SECONDARY_XY_ORIGIN: 357935.10500 5040182.86500
NATION: US
STATE: MT
NW_QUAD_CORNER_XY: 358395.55200 5040094.28300
NE_QUAD_CORNER_XY: 363278.43900 5039985.97500
SE_QUAD_CORNERY_XY: 363127.20900 5033042.49300
SW_QUAD_CORNER_XY: 358238.91700 5033150.80500
SECONDARY_NW_QUAD_XY: 358391.32600 5039876.72300
SECONDARY_NE_QUAD_XY: 363274.35800 5039768.41100
SECONDARY_SE_QUAD_XY: 363123.13000 5032824.97900
SECONDARY_SW_QUAD_XY: 358234.69200 5032933.29400
RMSE_XY: 3.20000
IMAGE_SOURCE: BLACK AND WHITE FILM
SOURCE_IMAGE_ID: NAPP 9483 125
SOURCE_IMAGE_DATE: 1995 8 14
SOURCE_DEM_DATE: 1997 11 25
AGENCY: WESTERN MAPPING CENTER (WMC)
PRODUCER: NIES MAPPING GROUP
PRODUCTION_SYSTEM: INTERGRAPH-ISIR
COMPRESSION: UNDEFINED
STANDARD_VERSION: 1996 12
METADATA_DATE: 1998 2 11
DATA_FILE_SIZE: 43715620
BYTE_COUNT: 5707
