FILENAME: O4511234.NWS.792709.tif
QUADRANGLE_NAME: TWIN ADAMS MOUNTAIN
QUADRANT: NW
WEST_LONGITUDE: -112 52 30.00000
EAST_LONGITUDE: -112 48 45.00000
NORTH_LATITUDE: 45 30 0.00000
SOUTH_LATITUDE: 45 26 15.00000
PRODUCTION_DATE: 1997 11 25
RASTER_ORDER: LEFT_RIGHT/TOP_BOTTOM
BAND_ORGANIZATION: SINGLE FILE
BAND_CONTENT: BLACK&WHITE
BAND_CONTENT: UNDEFINED
BAND_CONTENT: UNDEFINED
BITS_PER_PIXEL: 8
SAMPLES_AND_LINES: 5713 7662
HORIZONTAL_DATUM: NAD83
HORIZONTAL_COORDINATE_SYSTEM: UTM
COORDINATE_ZONE: 12
HORIZONTAL_UNITS: METERS
HORIZONTAL_RESOLUTION: 1.00000
SECONDARY_HORIZONTAL_DATUM: NAD27
XY_ORIGIN: 352983.28100 5040505.89400
SECONDARY_XY_ORIGIN: 353046.66600 5040294.97600
NATION: US
STATE: MT
NW_QUAD_CORNER_XY: 353512.66700 5040206.39400
NE_QUAD_CORNER_XY: 358395.55200 5040094.28300
SE_QUAD_CORNERY_XY: 358238.91700 5033150.80500
SW_QUAD_CORNER_XY: 353350.62800 5033262.92000
SECONDARY_NW_QUAD_XY: 353508.29600 5039988.83700
SECONDARY_NE_QUAD_XY: 358391.32600 5039876.72300
SECONDARY_SE_QUAD_XY: 358234.69200 5032933.29400
SECONDARY_SW_QUAD_XY: 353346.25700 5033045.41200
RMSE_XY: 1.80000
IMAGE_SOURCE: BLACK AND WHITE FILM
SOURCE_IMAGE_ID: NAPP 9485 200
SOURCE_IMAGE_DATE: 1995 8 20
SOURCE_DEM_DATE: 1997 11 25
AGENCY: WESTERN MAPPING CENTER (WMC)
PRODUCER: NIES MAPPING GROUP
PRODUCTION_SYSTEM: INTERGRAPH-ISIR
COMPRESSION: UNDEFINED
STANDARD_VERSION: 1996 12
METADATA_DATE: 1998 2 11
DATA_FILE_SIZE: 43778719
BYTE_COUNT: 5713
