FILENAME: O4511234.SWS.792711.tif
QUADRANGLE_NAME: TWIN ADAMS MOUNTAIN
QUADRANT: SW
WEST_LONGITUDE: -112 52 30.00000
EAST_LONGITUDE: -112 48 45.00000
NORTH_LATITUDE: 45 26 15.00000
SOUTH_LATITUDE: 45 22 30.00000
PRODUCTION_DATE: 1997 11 25
RASTER_ORDER: LEFT_RIGHT/TOP_BOTTOM
BAND_ORGANIZATION: SINGLE FILE
BAND_CONTENT: BLACK&WHITE
BAND_CONTENT: UNDEFINED
BAND_CONTENT: UNDEFINED
BITS_PER_PIXEL: 8
SAMPLES_AND_LINES: 5718 7662
HORIZONTAL_DATUM: NAD83
HORIZONTAL_COORDINATE_SYSTEM: UTM
COORDINATE_ZONE: 12
HORIZONTAL_UNITS: METERS
HORIZONTAL_RESOLUTION: 1.00000
SECONDARY_HORIZONTAL_DATUM: NAD27
XY_ORIGIN: 352821.32400 5033562.42000
SECONDARY_XY_ORIGIN: 352884.80200 5033351.63300
NATION: US
STATE: MT
NW_QUAD_CORNER_XY: 353350.62800 5033262.92000
NE_QUAD_CORNER_XY: 358238.91700 5033150.80500
SE_QUAD_CORNERY_XY: 358082.45200 5026207.39600
SW_QUAD_CORNER_XY: 353188.76400 5026319.51400
SECONDARY_NW_QUAD_XY: 353346.25700 5033045.41200
SECONDARY_NE_QUAD_XY: 358234.69200 5032933.29400
SECONDARY_SE_QUAD_XY: 358078.22900 5025989.93400
SECONDARY_SW_QUAD_XY: 353184.39500 5026102.05600
RMSE_XY: 0.70000
IMAGE_SOURCE: BLACK AND WHITE FILM
SOURCE_IMAGE_ID: NAPP 9485 198
SOURCE_IMAGE_DATE: 1995 8 20
SOURCE_DEM_DATE: 1997 11 25
AGENCY: WESTERN MAPPING CENTER (WMC)
PRODUCER: NIES MAPPING GROUP
PRODUCTION_SYSTEM: INTERGRAPH-ISIR
COMPRESSION: UNDEFINED
STANDARD_VERSION: 1996 12
METADATA_DATE: 1998 2 11
DATA_FILE_SIZE: 43817034
BYTE_COUNT: 5718
