FILENAME: O4511232.SES.789976.tif
QUADRANGLE_NAME: NOBLE PEAK
QUADRANT: SE
WEST_LONGITUDE: -112 3 45.00000
EAST_LONGITUDE: -112 0 0.00000
NORTH_LATITUDE: 45 33 45.00000
SOUTH_LATITUDE: 45 30 0.00000
PRODUCTION_DATE: 1997 11 21
RASTER_ORDER: LEFT_RIGHT/TOP_BOTTOM
BAND_ORGANIZATION: SINGLE FILE
BAND_CONTENT: BLACK&WHITE
BAND_CONTENT: UNDEFINED
BAND_CONTENT: UNDEFINED
BITS_PER_PIXEL: 8
SAMPLES_AND_LINES: 5634 7614
HORIZONTAL_DATUM: NAD83
HORIZONTAL_COORDINATE_SYSTEM: UTM
COORDINATE_ZONE: 12
HORIZONTAL_UNITS: METERS
HORIZONTAL_RESOLUTION: 1.00000
SECONDARY_HORIZONTAL_DATUM: NAD27
XY_ORIGIN: 416626.59300 5046288.59000
SECONDARY_XY_ORIGIN: 416688.36300 5046078.33100
NATION: US
STATE: MT
NW_QUAD_CORNER_XY: 417082.25000 5045989.09000
NE_QUAD_CORNER_XY: 421959.75500 5045926.40100
SE_QUAD_CORNERY_XY: 421873.26200 5038982.81200
SW_QUAD_CORNER_XY: 416990.35000 5039045.50400
SECONDARY_NW_QUAD_XY: 417079.77200 5045771.45000
SECONDARY_NE_QUAD_XY: 421957.42300 5045708.75900
SECONDARY_SE_QUAD_XY: 421870.93100 5038765.21900
SECONDARY_SW_QUAD_XY: 416987.87300 5038827.91200
RMSE_XY: 3.00000
IMAGE_SOURCE: BLACK AND WHITE FILM
SOURCE_IMAGE_ID: NAPP 9485 270
SOURCE_IMAGE_DATE: 1995 8 20
SOURCE_DEM_DATE: 1997 11 21
AGENCY: WESTERN MAPPING CENTER (WMC)
PRODUCER: NIES MAPPING GROUP
PRODUCTION_SYSTEM: INTERGRAPH- ISPM,ISIR
COMPRESSION: UNDEFINED
STANDARD_VERSION: 1996 12
METADATA_DATE: 1998 2 5
DATA_FILE_SIZE: 42902910
BYTE_COUNT: 5634
