FILENAME: O4511232.SWS.789977.tif
QUADRANGLE_NAME: NOBLE PEAK
QUADRANT: SW
WEST_LONGITUDE: -112 7 30.00000
EAST_LONGITUDE: -112 3 45.00000
NORTH_LATITUDE: 45 33 45.00000
SOUTH_LATITUDE: 45 30 0.00000
PRODUCTION_DATE: 1997 11 21
RASTER_ORDER: LEFT_RIGHT/TOP_BOTTOM
BAND_ORGANIZATION: SINGLE FILE
BAND_CONTENT: BLACK&WHITE
BAND_CONTENT: UNDEFINED
BAND_CONTENT: UNDEFINED
BITS_PER_PIXEL: 8
SAMPLES_AND_LINES: 5639 7617
HORIZONTAL_DATUM: NAD83
HORIZONTAL_COORDINATE_SYSTEM: UTM
COORDINATE_ZONE: 12
HORIZONTAL_UNITS: METERS
HORIZONTAL_RESOLUTION: 1.00000
SECONDARY_HORIZONTAL_DATUM: NAD27
XY_ORIGIN: 411743.47800 5046355.08000
SECONDARY_XY_ORIGIN: 411805.30900 5046144.76300
NATION: US
STATE: MT
NW_QUAD_CORNER_XY: 412204.74600 5046055.58000
NE_QUAD_CORNER_XY: 417082.25000 5045989.09000
SE_QUAD_CORNERY_XY: 416990.35000 5039045.50400
SW_QUAD_CORNER_XY: 412107.43900 5039111.99600
SECONDARY_NW_QUAD_XY: 412202.12300 5045837.94200
SECONDARY_NE_QUAD_XY: 417079.77200 5045771.45000
SECONDARY_SE_QUAD_XY: 416987.87300 5038827.91200
SECONDARY_SW_QUAD_XY: 412104.81600 5038894.40600
RMSE_XY: 2.10000
IMAGE_SOURCE: BLACK AND WHITE FILM
SOURCE_IMAGE_ID: NAPP 9484 244
SOURCE_IMAGE_DATE: 1995 8 14
SOURCE_DEM_DATE: 1997 11 21
AGENCY: WESTERN MAPPING CENTER (WMC)
PRODUCER: NIES MAPPING GROUP
PRODUCTION_SYSTEM: INTERGRAPH- ISPM,ISIR
COMPRESSION: UNDEFINED
STANDARD_VERSION: 1996 12
METADATA_DATE: 1998 2 5
DATA_FILE_SIZE: 42957902
BYTE_COUNT: 5639
