FILENAME: O4511231.NES.789966.tif
QUADRANGLE_NAME: OLD BALDY MOUNTAIN
QUADRANT: NE
WEST_LONGITUDE: -112 11 15.00000
EAST_LONGITUDE: -112 7 30.00000
NORTH_LATITUDE: 45 37 30.00000
SOUTH_LATITUDE: 45 33 45.00000
PRODUCTION_DATE: 1997 11 17
RASTER_ORDER: LEFT_RIGHT/TOP_BOTTOM
BAND_ORGANIZATION: SINGLE FILE
BAND_CONTENT: BLACK&WHITE
BAND_CONTENT: UNDEFINED
BAND_CONTENT: UNDEFINED
BITS_PER_PIXEL: 8
SAMPLES_AND_LINES: 5640 7621
HORIZONTAL_DATUM: NAD83
HORIZONTAL_COORDINATE_SYSTEM: UTM
COORDINATE_ZONE: 12
HORIZONTAL_UNITS: METERS
HORIZONTAL_RESOLUTION: 1.00000
SECONDARY_HORIZONTAL_DATUM: NAD27
XY_ORIGIN: 406963.08800 5053369.02400
SECONDARY_XY_ORIGIN: 407024.97200 5053158.58700
NATION: US
STATE: MT
NW_QUAD_CORNER_XY: 407430.07000 5053069.52400
NE_QUAD_CORNER_XY: 412302.15800 5052999.23700
SE_QUAD_CORNERY_XY: 412204.74600 5046055.58000
SW_QUAD_CORNER_XY: 407327.24400 5046125.87000
SECONDARY_NW_QUAD_XY: 407427.30000 5052851.84000
SECONDARY_NE_QUAD_XY: 412299.53400 5052781.55100
SECONDARY_SE_QUAD_XY: 412202.12300 5045837.94200
SECONDARY_SW_QUAD_XY: 407324.47500 5045908.23400
RMSE_XY: 2.40000
IMAGE_SOURCE: BLACK AND WHITE FILM
SOURCE_IMAGE_ID: NAPP 9484 231
SOURCE_IMAGE_DATE: 1995 8 14
SOURCE_DEM_DATE: 1997 11 17
AGENCY: WESTERN MAPPING CENTER (WMC)
PRODUCER: NIES MAPPING GROUP
PRODUCTION_SYSTEM: INTERGRAPH- ISPM,ISIR
COMPRESSION: UNDEFINED
STANDARD_VERSION: 1996 12
METADATA_DATE: 1998 2 5
DATA_FILE_SIZE: 42988080
BYTE_COUNT: 5640
