FILENAME: O4511231.NWS.789969.tif
QUADRANGLE_NAME: OLD BALDY MOUNTAIN
QUADRANT: NW
WEST_LONGITUDE: -112 15 0.00000
EAST_LONGITUDE: -112 11 15.00000
NORTH_LATITUDE: 45 37 30.00000
SOUTH_LATITUDE: 45 33 45.00000
PRODUCTION_DATE: 1997 11 17
RASTER_ORDER: LEFT_RIGHT/TOP_BOTTOM
BAND_ORGANIZATION: SINGLE FILE
BAND_CONTENT: BLACK&WHITE
BAND_CONTENT: UNDEFINED
BAND_CONTENT: UNDEFINED
BITS_PER_PIXEL: 8
SAMPLES_AND_LINES: 5645 7625
HORIZONTAL_DATUM: NAD83
HORIZONTAL_COORDINATE_SYSTEM: UTM
COORDINATE_ZONE: 12
HORIZONTAL_UNITS: METERS
HORIZONTAL_RESOLUTION: 1.00000
SECONDARY_HORIZONTAL_DATUM: NAD27
XY_ORIGIN: 402085.38200 5053443.11100
SECONDARY_XY_ORIGIN: 402147.33900 5053232.62000
NATION: US
STATE: MT
NW_QUAD_CORNER_XY: 402557.98400 5053143.61100
NE_QUAD_CORNER_XY: 407430.07000 5053069.52400
SE_QUAD_CORNERY_XY: 407327.24400 5046125.87000
SW_QUAD_CORNER_XY: 402449.74500 5046199.96000
SECONDARY_NW_QUAD_XY: 402555.06800 5052925.93000
SECONDARY_NE_QUAD_XY: 407427.30000 5052851.84000
SECONDARY_SE_QUAD_XY: 407324.47500 5045908.23400
SECONDARY_SW_QUAD_XY: 402446.83000 5045982.32600
RMSE_XY: 1.20000
IMAGE_SOURCE: BLACK AND WHITE FILM
SOURCE_IMAGE_ID: NAPP 9484 160
SOURCE_IMAGE_DATE: 1995 8 14
SOURCE_DEM_DATE: 1997 11 17
AGENCY: WESTERN MAPPING CENTER (WMC)
PRODUCER: NIES MAPPING GROUP
PRODUCTION_SYSTEM: INTERGRAPH- ISPM,ISIR
COMPRESSION: UNDEFINED
STANDARD_VERSION: 1996 12
METADATA_DATE: 1998 2 5
DATA_FILE_SIZE: 43048770
BYTE_COUNT: 5645
